{"text_format":"1","workbook":"xlsx","n_sheets":13,"sheets":["Sheet8 (2)","REAL (2)","Sheet1","Sheet2","Sheet3","REAL_orig","REAL","Sheet5","REAL1","Sheet9","Sheet8_old1","Sheet4","Sheet8"],"not_rendered":{"charts":0,"images":4,"macros":1,"external_links":0,"defined_names":0,"comments":0,"pivot_tables":0},"unopened":[],"bounds":{"document_bytes":16777216,"sheet_cells":100000,"rows_first":2000,"rows_last":500,"rows_between":2000,"halvings":0,"cell_chars":16384,"cell_head_chars":4096},"cells_cut":0,"cells_raw":0,"read":"whole","date_system":"1900"}

{"sheet":"Sheet8 (2)","index":0,"n_rows":28,"n_cols":14,"rows_kept":28,"cut":false,"hidden":false,"merged":[]}
["PIN","Address","Distance from this property","Total Assessment","Bldg SqFt","Land SqFt","Age","$ Assessed Per Sq Ft of Land","% more land vs subject prop","$ Assessed Per Sq Ft of Bldg","% diff","$ Assessed Per Sq Ft of Land","% diff","%diffAbs"]
["05-18-106-019-0000","1555 Tower Rd",null,58880,2581,23353,61,{"$f":"D2/F2","v":2.5213034727872223},{"$f":"(F2-$F$3)/$F$3*100","v":0},{"$f":"D2/E2","v":22.812863231305695},{"$f":"($J$3-J2)/$J$3*100","v":10.184500998666074},{"$f":"D2/F2","v":2.5213034727872223},{"$f":"($L$3-L2)/$L$3*100","v":11.757212439115774},73.667243014504479]
["05-18-106-018-0000","1565 Tower Rd",null,66725,2627,23353,61,{"$f":"D3/F3","v":2.85723461653749},{"$f":"(F3-$F$3)/$F$3*100","v":0},{"$f":"D3/E3","v":25.399695470118004},{"$f":"($J$3-J3)/$J$3*100","v":0},{"$f":"D3/F3","v":2.85723461653749},{"$f":"($L$3-L3)/$L$3*100","v":0},70.158743039110249]
["05-17-200-055-0000","889 Private Rd",null,65310,3149,21488,61,{"$f":"D4/F4","v":3.0393708116157856},{"$f":"(F4-$F$3)/$F$3*100","v":-7.9861259795315371},{"$f":"D4/E4","v":20.739917434106065},{"$f":"($J$3-J4)/$J$3*100","v":18.345802773478255},{"$f":"D4/F4","v":3.0393708116157856},{"$f":"($L$3-L4)/$L$3*100","v":-6.3745621036544575},68.256493581627225]
["05-20-315-009-0000","1210 Lindenwood Dr",null,79121,3841,21645,66,{"$f":"D5/F5","v":3.6553938553938554},{"$f":"(F5-$F$3)/$F$3*100","v":-7.3138354815227169},{"$f":"D5/E5","v":20.599062744077063},{"$f":"($J$3-J5)/$J$3*100","v":18.900355445949124},{"$f":"D5/F5","v":3.6553938553938554},{"$f":"($L$3-L5)/$L$3*100","v":-27.934676215830201},61.8226845283518]
["05-18-402-061-0000","1383 Westmoor Trl",null,78020,3075,20996,64,{"$f":"D6/F6","v":3.715945894456087},{"$f":"(F6-$F$3)/$F$3*100","v":-10.092921680298035},{"$f":"D6/E6","v":25.372357723577235},{"$f":"($J$3-J6)/$J$3*100","v":0.1076302138068225},{"$f":"D6/F6","v":3.715945894456087},{"$f":"($L$3-L6)/$L$3*100","v":-30.053929521518164},61.190272703749301]
["05-20-300-037-0000","355 Hibbard Rd",null,53188,2899,12933,58,{"$f":"D7/F7","v":4.1125802211397202},{"$f":"(F7-$F$3)/$F$3*100","v":-44.619534963388006},{"$f":"D7/E7","v":18.347016212487066},{"$f":"($J$3-J7)/$J$3*100","v":27.766786676352908},{"$f":"D7/F7","v":4.1125802211397202},{"$f":"($L$3-L7)/$L$3*100","v":-43.935685131923385},57.047782341365547]
["05-20-300-061-0000","277 Hibbard Rd",null,63501,3338,14902,56,{"$f":"D8/F8","v":4.2612401019997312},{"$f":"(F8-$F$3)/$F$3*100","v":-36.188070055239159},{"$f":"D8/E8","v":19.023666866387057},{"$f":"($J$3-J8)/$J$3*100","v":25.102775784190634},{"$f":"D8/F8","v":4.2612401019997312},{"$f":"($L$3-L8)/$L$3*100","v":-49.138613865866944},55.495163008377489]
["05-20-313-016-0000","1240 Sunset Rd",null,59002,2501,13499,59,{"$f":"D9/F9","v":4.3708422846136754},{"$f":"(F9-$F$3)/$F$3*100","v":-42.195863486489962},{"$f":"D9/E9","v":23.591363454618154},{"$f":"($J$3-J9)/$J$3*100","v":7.1195027421777555},{"$f":"D9/F9","v":4.3708422846136754},{"$f":"($L$3-L9)/$L$3*100","v":-52.974567062694874},54.350466358012596]
["05-20-410-003-0000","201 Linden St",null,82500,4217,18700,48,{"$f":"D10/F10","v":4.4117647058823533},{"$f":"(F10-$F$3)/$F$3*100","v":-19.924634950541687},{"$f":"D10/E10","v":19.56367085605881},{"$f":"($J$3-J10)/$J$3*100","v":22.976750335156996},{"$f":"D10/F10","v":4.4117647058823533},{"$f":"($L$3-L10)/$L$3*100","v":-54.406805809622462},53.923068313248514]
["05-20-308-057-0000","315 Auburn Ave",null,61656,3246,13900,57,{"$f":"D11/F11","v":4.4356834532374103},{"$f":"(F11-$F$3)/$F$3*100","v":-40.478739348263602},{"$f":"D11/E11","v":18.994454713493532},{"$f":"($J$3-J11)/$J$3*100","v":25.217785639044571},{"$f":"D11/F11","v":4.4356834532374103},{"$f":"($L$3-L11)/$L$3*100","v":-55.243935081983118},53.673258415988542]
["05-20-100-010-0000","1225 Spruce St",null,97131,3883,21776,67,{"$f":"D12/F12","v":4.4604610580455546},{"$f":"(F12-$F$3)/$F$3*100","v":-6.7528797156682225},{"$f":"D12/E12","v":25.014421838784443},{"$f":"($J$3-J12)/$J$3*100","v":1.5168435062019712},{"$f":"D12/F12","v":4.4604610580455546},{"$f":"($L$3-L12)/$L$3*100","v":-56.111123399831897},53.414478521724476]
["05-20-308-060-0000","290 Euclid Ave",null,66233,2637,14340,60,{"$f":"D13/F13","v":4.6187587168758713},{"$f":"(F13-$F$3)/$F$3*100","v":-38.594613111805764},{"$f":"D13/E13","v":25.116799393249906},{"$f":"($J$3-J13)/$J$3*100","v":1.1137774356425554},{"$f":"D13/F13","v":4.6187587168758713},{"$f":"($L$3-L13)/$L$3*100","v":-61.651363529714821},51.761201228315777]
["05-20-308-051-0000","345 Auburn Ave",null,49704,2565,10494,60,{"$f":"D14/F14","v":4.7364208118925104},{"$f":"(F14-$F$3)/$F$3*100","v":-55.063589260480448},{"$f":"D14/E14","v":19.377777777777776},{"$f":"($J$3-J14)/$J$3*100","v":23.708621622746769},{"$f":"D14/F14","v":4.7364208118925104},{"$f":"($L$3-L14)/$L$3*100","v":-65.769404601162663},50.53232601043004]
["05-17-117-007-0000","960 Old Green Bay Rd",null,64978,2941,13351,62,{"$f":"D15/F15","v":4.8669013557036926},{"$f":"(F15-$F$3)/$F$3*100","v":-42.829615038753047},{"$f":"D15/E15","v":22.093845630737846},{"$f":"($J$3-J15)/$J$3*100","v":13.01531289329588},{"$f":"D15/F15","v":4.8669013557036926},{"$f":"($L$3-L15)/$L$3*100","v":-70.336076972271755},49.169573573605426]
["05-18-402-050-0000","1339 Trapp Lane",null,107105,4183,21000,66,{"$f":"D16/F16","v":5.1002380952380957},{"$f":"(F16-$F$3)/$F$3*100","v":-10.075793259966598},{"$f":"D16/E16","v":25.604829070045422},{"$f":"($J$3-J16)/$J$3*100","v":-0.80762228101809974},{"$f":"D16/F16","v":5.1002380952380957},{"$f":"($L$3-L16)/$L$3*100","v":-78.502600581633928},46.73258027856393]
["05-20-300-044-0000","319 Hibbard Rd",null,87441,3862,17123,67,{"$f":"D17/F17","v":5.1066401915552184},{"$f":"(F17-$F$3)/$F$3*100","v":-26.677514666209905},{"$f":"D17/E17","v":22.641377524598653},{"$f":"($J$3-J17)/$J$3*100","v":10.859649670857005},{"$f":"D17/F17","v":5.1066401915552184},{"$f":"($L$3-L17)/$L$3*100","v":-78.72666675667142},46.665716115508552]
["05-18-402-060-0000","860 Hibbard Rd",null,100502,4246,19502,63,{"$f":"D18/F18","v":5.1534201620346627},{"$f":"(F18-$F$3)/$F$3*100","v":-16.490386674088985},{"$f":"D18/E18","v":23.669806877060765},{"$f":"($J$3-J18)/$J$3*100","v":6.8106666676078964},{"$f":"D18/F18","v":5.1534201620346627},{"$f":"($L$3-L18)/$L$3*100","v":-80.363913141993962},46.177141214581575]
["05-21-418-049-0000","130 Sheridan Rd",null,52786,2132,9940,53,{"$f":"D19/F19","v":5.3104627766599597},{"$f":"(F19-$F$3)/$F$3*100","v":-57.43587547638419},{"$f":"D19/E19","v":24.75891181988743},{"$f":"($J$3-J19)/$J$3*100","v":2.5228005232757114},{"$f":"D19/F19","v":5.3104627766599597},{"$f":"($L$3-L19)/$L$3*100","v":-85.86022813539158},44.536971734021883]
["05-20-308-054-0000","320 Euclid Ave",null,81526,3773,14802,57,{"$f":"D20/F20","v":5.507769220375625},{"$f":"(F20-$F$3)/$F$3*100","v":-36.616280563525031},{"$f":"D20/E20","v":21.607739199575935},{"$f":"($J$3-J20)/$J$3*100","v":14.929140685970802},{"$f":"D20/F20","v":5.507769220375625},{"$f":"($L$3-L20)/$L$3*100","v":-92.765731889744416},42.476282614241562]
["05-20-308-069-0000","1220 Sunset Rd",null,74842,3276,12693,51,{"$f":"D21/F21","v":5.8963208067438746},{"$f":"(F21-$F$3)/$F$3*100","v":-45.647240183274093},{"$f":"D21/E21","v":22.845543345543344},{"$f":"($J$3-J21)/$J$3*100","v":10.055837588996077},{"$f":"D21/F21","v":5.8963208067438746},{"$f":"($L$3-L21)/$L$3*100","v":-106.36460067424458},38.418209236484643]
["05-20-120-028-0000","371 Berkeley Ave",null,67818,3067,10481,65,{"$f":"D22/F22","v":6.4705657857074703},{"$f":"(F22-$F$3)/$F$3*100","v":-55.119256626557615},{"$f":"D22/E22","v":22.112161721552006},{"$f":"($J$3-J22)/$J$3*100","v":12.943201434968717},{"$f":"D22/F22","v":6.4705657857074703},{"$f":"($L$3-L22)/$L$3*100","v":-126.46252947714731},32.420734658593766]
["05-18-216-001-0000","995 Grove St",null,56052,2693,7950,63,{"$f":"D23/F23","v":7.050566037735849},{"$f":"(F23-$F$3)/$F$3*100","v":-65.957264591273074},{"$f":"D23/E23","v":20.813962124025252},{"$f":"($J$3-J23)/$J$3*100","v":18.054284751121259},{"$f":"D23/F23","v":7.050566037735849},{"$f":"($L$3-L23)/$L$3*100","v":-146.76188636829565},26.363151407298108]
["05-18-217-016-0000","1437 Asbury Ave",null,63694,2860,7950,21,{"$f":"D24/F24","v":8.0118238993710698},{"$f":"(F24-$F$3)/$F$3*100","v":-65.957264591273074},{"$f":"D24/E24","v":22.270629370629372},{"$f":"($J$3-J24)/$J$3*100","v":12.31930557265888},{"$f":"D24/F24","v":8.0118238993710698},{"$f":"($L$3-L24)/$L$3*100","v":-180.40483105584502},16.323673833876494]
["05-21-418-051-0000","127 Fuller Lane",null,76361,3432,8908,37,{"$f":"D25/F25","v":8.5721823080377195},{"$f":"(F25-$F$3)/$F$3*100","v":-61.855007921894398},{"$f":"D25/E25","v":22.249708624708624},{"$f":"($J$3-J25)/$J$3*100","v":12.401671701596765},{"$f":"D25/F25","v":8.5721823080377195},{"$f":"($L$3-L25)/$L$3*100","v":-200.01674550708861},10.47123204753103]
["05-20-225-030-0000","368 Birch St",null,85100,3502,9348,27,{"$f":"D26/F26","v":9.1035515618314076},{"$f":"(F26-$F$3)/$F$3*100","v":-59.970881685436559},{"$f":"D26/E26","v":24.30039977155911},{"$f":"($J$3-J26)/$J$3*100","v":4.3279877109242628},{"$f":"D26/F26","v":9.1035515618314076},{"$f":"($L$3-L26)/$L$3*100","v":-218.61407212206649},4.9215560244995391]
["05-18-216-012-0000","1468 Scott Ave",null,63981,2930,6930,33,{"$f":"D27/F27","v":9.2324675324675329},{"$f":"(F27-$F$3)/$F$3*100","v":-70.32501177578898},{"$f":"D27/E27","v":21.836518771331058},{"$f":"($J$3-J27)/$J$3*100","v":14.028422911522382},{"$f":"D27/F27","v":9.2324675324675329},{"$f":"($L$3-L27)/$L$3*100","v":-223.12598619065463},3.5751441534376172]
["05-17-404-013-0000","874 Sheridan Rd",0,80409,3030,8398,63,{"$f":"D28/F28","v":9.5747797094546314},"N/A",{"$f":"D28/E28","v":26.537623762376239},null,{"$f":"D28/F28","v":9.5747797094546314}]

{"sheet":"REAL (2)","index":1,"n_rows":12,"n_cols":14,"rows_kept":12,"cut":false,"hidden":false,"merged":[]}
["PIN","Address","Distance from this property","Total Assessment","Bldg SqFt","Land SqFt","Age","$ Assessed Per Sq Ft of Land","% more land vs subject prop","$ Assessed Per Sq Ft of Bldg","% diff","$ Assessed Per Sq Ft of Land","% diff"]
["05-17-404-013-0000","874 Sheridan Rd",0,98650,3030,8400,63,{"$f":"D2/F2","v":11.744047619047619},"N/A",{"$f":"D2/E2","v":32.557755775577554},null,{"$f":"D2/F2","v":11.744047619047619}]
["05-21-201-033-0000","380 Sheridan Rd","1.2 miles",110478,3166,12375,41,{"$f":"D3/F3","v":8.9275151515151521},{"$f":"(F3-$F$2)/$F$2*100","v":47.321428571428569},34.895135818066962,{"$f":"($J$2-J3)/$J$2*100","v":-7.179180465020683},8.9275151515151521,{"$f":"($L$2-L3)/$L$2*100","v":23.982638344929267}]
["05-17-404-015-0000","860 Sheridan Rd","151 feet",106288,2973,9300,57,11.428817204301076,10.714285714285714,35.751093171880257,-9.8082233256940583,11.428817204301076,2.6841718032143516]
["05-17-404-032-0000","850 Sheridan Rd","302 feet",103756,2982,14560,42,7.1260989010989011,73.333333333333329,34.794097920858484,-6.8688461228598232,7.1260989010989011,39.321610978985532]
["05-17-404-031-0000","840 Sheridan Rd","397 ft",119853,3571,14560,41,8.2316620879120883,73.333333333333329,33.562867544105295,-3.0871653914232677,8.2316620879120883,29.907793676166705]
["05-21-418-049-0000","130 Sheridan Rd","1.8 miles",65318,2132,9939,51,6.5718885199718278,18.321428571428573,30.636960600375236,5.8996547195773195,6.5718885199718278,44.040685689038668,"x"]
["05-17-402-025-0000","870 Prospect Ave","0.2 mile",108459,2861,12975,56,8.3590751445086706,54.464285714285708,37.909472212513109,-16.43760851892015,8.3590751445086706,28.822877634188711]
["05-18-106-018-0000","1565 Tower Rd","1.8 miles",72527,2627,23353,59,3.1056823534449536,178.01190476190476,27.608298439284354,15.202083861093154,3.1056823534449536,73.555264299100244]
["05-21-202-017-0000","359 Sheridan Rd","1.2 miles",143612,3493,17600,53,8.1597727272727276,109.52380952380953,41.114228456913828,-26.280904434312124,8.1597727272727276,30.519928120536328]
["05-18-106-032-0000","924 Pine Tree Lane","2 miles",115724,3516,23465,51,4.9317707223524394,179.3452380952381,32.913538111490332,-1.0927729121294656,4.9317707223524394,58.00620976405424]
["05-20-300-037-0000","355 Hibbard Rd","2.2 miles",57813,2899,12934,56,4.4698469151074685,53.976190476190474,19.942393928941016,38.747639528949534,4.4698469151074685,61.939468741102147,"x"]

{"sheet":"Sheet1","index":2,"n_rows":46,"n_cols":14,"rows_kept":46,"cut":false,"hidden":false,"merged":[]}
[null,null,null,null,null,null,null,null,null,null,null,"Calculations"]
["Class","Neighborhood","PIN","Address","Distance from this property","Land AV","Building AV","Total Assessment","Bldg SqFt","Land SqFt","Age","$ Assessed Per Sq Ft of Land","% more land vs subject prop","$ Assessed Per Sq Ft of Bldg"]
["2-78","22","05-17-404-013-0000","874 Sheridan Rd",0,{"$f":"H3-G3","v":16380},103933,120313,3030,8400,60,{"$f":"H3/J3","v":14.32297619047619},0,{"$f":"H3/I3","v":39.707260726072604}]
["2-04","22","05-21-418-033-0000","196 Sheridan Rd","1.6 miles",{"$f":"H4-G4","v":33017},71649,104666,2882,16932,65,{"$f":"H4/J4","v":6.1815497283250647},{"$f":"(J4-J3)/J3*100","v":101.57142857142858},36.317140874392784]
["2-78","22","05-17-404-015-0000","860 Sheridan Rd","151 feet",{"$f":"H5-G5","v":18135},90228,108363,2973,9300,54,11.651935483870968,{"$f":"(J5-J3)/J3*100","v":10.714285714285714},36.449041372351161]
["2-78","22","05-17-402-025-0000","870 Prospect Ave","0.2 mile",{"$f":"H6-G6","v":25301},78062,103363,2861,12975,53,7.9663198458574183,{"$f":"(J6-J3)/J3*100","v":54.464285714285708},36.128276826284512]
["2-78","22","05-21-201-033-0000","380 Sheridan Rd","1.2 miles",24131,94040,118171,3166,12375,38,9.549171717171717,{"$f":"(J7-J3)/J3*100","v":47.321428571428569},37.325015792798482]
["2-78","22","05-20-120-028-0000","371 Berkeley Ave","2 miles",13098,63963,77061,3067,10479,60,7.3538505582593761,{"$f":"(J8-J3)/J3*100","v":24.75},25.125855885229868]
[]
[null,null,null,null,null,{"$f":"AVERAGE(F4:F8)","v":22736.400000000001},{"$f":"AVERAGE(G4:G8)","v":79588.399999999994},null,null,null,null,{"$f":"AVERAGE(L3:L8)","v":9.5043005873267887},null,{"$f":"AVERAGE(N3:N8)","v":35.175431912854904}]
[null,null,"If taxed at 6.18 per Land sq ft, our total AV should be",null,null,null,null,null,{"$f":"8400*6.18","v":51912},"or 8400*6.18"]
[null,null,"If taxed at 7.97 per Land sq ft, our total AV should be",null,null,null,null,null,{"$f":"J3*7.97","v":66948}]
[null,null,"If taxed at 9.55 per Land sq ft, our total AV should be",null,null,null,null,null,{"$f":"J3*9.55","v":80220},null,null,null,{"$f":"AVERAGE(M4:M8)","v":47.764285714285712}]
[null,null,"If taxed at 11.65 per Land sq ft, our total AV should be",null,null,null,null,null,{"$f":"J3*11.65","v":97860}]
[null,null,"If taxed at 7.35 per Land sq ft, our total AV should be",null,null,null,null,null,{"$f":"J3*L8","v":61772.344689378762}]
[null,null,"If taxed at avg 9.5 per Land sq ft, out AV should be",null,null,null,null,null,{"$f":"L10*J3","v":79836.124933545027}]
[]
[null,null,"If taxed at 36.13 per Bldg sq ft, our total AV should be",null,null,null,null,null,{"$f":"N6*I3","v":109468.67878364207}]
[null,null,"If taxed at 36.32 per Bldg sq ft, our total AV should be",null,null,null,null,null,{"$f":"N4*I3","v":110040.93684941014}]
[null,null,"If taxed at 36.45 per Bldg sq ft, our total AV should be",null,null,null,null,null,{"$f":"N5*I3","v":110440.59535822402}]
[null,null,"If taxed at 37.33 per Bldg sq ft, our total AV should be",null,null,null,null,null,{"$f":"N7*I3","v":113094.7978521794}]
[null,null,"If taxed at 37.19 per Bldg sq ft, our total AV should be",null,null,null,null,null,{"$f":"N10*I3","v":106581.55869595036}]
[]
[]
[null,null,"Even though the 5 comparables have, on average, 48% more overall land than this property, we are still paying more tax per square foot of land AND more tax per square foot of building."]
[null,null,"The 5 comparables have significantly more total land compared to this house in terms of percent:  11%, 25%, 47%, 54% and 101%. These 5 comparables have, on average, 48% more total land. 3 of these houses are also at least 6-22 years younger than this house. "]
[null,null,"We are requesting a 25% reduction (about half of this 48% average) of the total AV value (to adjust for greater average total land size AND for the 6 to 22 year age difference)."]
[null,null,"25% off the original assessment is [120313 x 0.25] = 30,078.25.  So, this would yield a Total AV of [120,313 - 30,078.25] = 90,234.75."]
[null,null,null,null,null,null,{"$f":"H5*0.15","v":16254.449999999999},{"$f":"H3*0.25","v":30078.25}]
[null,null,null,null,null,null,{"$f":"H5-G29","v":92108.55},{"$f":"H3-H29","v":90234.75}]
[]
[]
[null,null,null,null,{"$f":"H30-73000","v":17234.75}]
[]
[null,null,null,null,null,null,63645,null,null,{"$f":"(G37-G35)/G35*100","v":56.991122633356909}]
[null,null,null,null,null,null,120313]
[null,null,"Year","Median Price",null,null,99917,null,null,{"$f":"(90235-G35)/G35*100","v":41.778615759289814}]
[null,null,2012,857000]
[null,null,2016,1080000,null,null,"Inc",{"$f":"(G37-G35)/G35*100","v":56.991122633356909}]
[]
[null,null,null,null,{"$f":"(D39-D38)/D38*100","v":26.021003500583429},null,null,{"$f":"(H30-G35)/G35*100","v":41.778222955456044}]
[]
[]
[null,null,"2012-07-01",817000]
[null,null,"2016-12-01",946500]
[null,null,null,null,{"$f":"(D45-D44)/D44*100","v":15.850673194614442}]

{"sheet":"Sheet2","index":3,"n_rows":20,"n_cols":15,"rows_kept":20,"cut":false,"hidden":false,"merged":[]}
["Class","Neighborhood","PIN","Address","Distance from this property","Land AV","Building AV","Total Assessment","Bldg SqFt","Land SqFt","Age","$ Assessed Per Sq Ft of Land","% more land vs subject prop","$ Assessed Per Sq Ft of Bldg","$ Assessed Per Sq Ft of Land"]
["2-78","22","05-17-404-013-0000","874 Sheridan Rd",0,{"$f":"H2-G2","v":16380},103933,120313,3030,8400,60,{"$f":"H2/J2","v":14.32297619047619},0,{"$f":"H2/I2","v":39.707260726072604}]
["2-04","22","05-21-418-033-0000","196 Sheridan Rd","1.6 miles",{"$f":"H3-G3","v":20574},71649,92223,2882,16932,65,{"$f":"H3/J3","v":5.4466690290574062},{"$f":"(J3-J2)/J2*100","v":101.57142857142858},31.999653018736989]
["2-78","22","05-17-404-015-0000","860 Sheridan Rd","151 feet",{"$f":"H4-G4","v":18135},90228,108363,2973,9300,54,11.651935483870968,{"$f":"(J4-J2)/J2*100","v":10.714285714285714},36.449041372351161]
["2-78","22","05-17-402-025-0000","870 Prospect Ave","0.2 mile",{"$f":"H5-G5","v":25301},78062,103363,2861,12975,53,7.9663198458574183,{"$f":"(J5-J2)/J2*100","v":54.464285714285708},36.128276826284512]
["2-78","22","05-21-201-033-0000","380 Sheridan Rd","1.2 miles",24131,94040,118171,3166,12375,38,9.549171717171717,{"$f":"(J6-J2)/J2*100","v":47.321428571428569},37.325015792798482]
["2-78","22","05-20-120-028-0000","371 Berkeley Ave","2 miles",13098,63963,77061,3067,10479,60,7.3538505582593761,{"$f":"(J7-J2)/J2*100","v":24.75},25.125855885229868]
["2-78","22","05-17-404-013-0000","874 Sheridan Rd",0,null,96308,112688,3030,8400,60,13.415238095238095,0,{"$f":"H2/I2","v":39.707260726072604}]
["2-04","22","05-21-418-033-0000","196 Sheridan Rd","1.6 miles",null,67773,100790,2882,16932,65,5.952634065674463,{"$f":"(J9-J8)/J8*100","v":101.57142857142858},{"$f":"H3/I3","v":31.999653018736989}]
["2-78","22","05-17-404-015-0000","860 Sheridan Rd","151 feet",null,80749,98884,2973,9300,54,10.632688172043011,{"$f":"(J10-J8)/J8*100","v":10.714285714285714},36.449041372351161]
["2-78","22","05-17-402-025-0000","870 Prospect Ave","0.2 mile",null,68500,93801,2861,12975,53,7.2293641618497109,{"$f":"(J11-J8)/J8*100","v":54.464285714285708},36.128276826284512]
["2-78","22","05-21-201-033-0000","380 Sheridan Rd","1.2 miles",null,94040,118171,3166,12375,38,9.549171717171717,{"$f":"(J12-J8)/J8*100","v":47.321428571428569},37.325015792798482]
["2-78","22","05-20-120-028-0000","371 Berkeley Ave","2 miles",null,63963,77061,3067,10479,60,7.3538505582593761,{"$f":"(J13-J8)/J8*100","v":24.75},25.125855885229868]
[]
["2-78","22","05-17-404-013-0000","874 Sheridan Rd",0,null,null,99917,3030,8400,60,{"$f":"H15/J15","v":11.894880952380952},0,{"$f":"H15/I15","v":32.975907590759078},{"$f":"H15/J15","v":11.894880952380952}]
["2-04","22","05-21-418-033-0000","196 Sheridan Rd","1.6 miles",null,null,100790,2882,16932,65,{"$f":"H16/J16","v":5.952634065674463},{"$f":"(J16-J15)/J15*100","v":101.57142857142858},34.972241498959058,5.952634065674463]
["2-78","22","05-17-404-015-0000","860 Sheridan Rd","151 feet",null,null,90230,2973,9300,54,9.7021505376344095,{"$f":"(J17-J15)/J15*100","v":10.714285714285714},30.349815001681804,9.7021505376344095]
["2-78","22","05-17-402-025-0000","870 Prospect Ave","0.2 mile",null,null,93801,2861,12975,53,7.2293641618497109,{"$f":"(J18-J15)/J15*100","v":54.464285714285708},32.786088780146805,7.2293641618497109]
["2-78","22","05-21-201-033-0000","380 Sheridan Rd","1.2 miles",null,null,110151,3166,12375,38,8.9010909090909092,{"$f":"(J19-J15)/J15*100","v":47.321428571428569},34.791850915982309,8.9010909090909092]
["2-78","22","05-20-120-028-0000","371 Berkeley Ave","2 miles",null,null,65297,3067,10479,60,6.2312243534688427,{"$f":"(J20-J15)/J15*100","v":24.75},21.2901858493642,6.2312243534688427]

{"sheet":"Sheet3","index":4,"n_rows":85,"n_cols":16,"rows_kept":85,"cut":false,"hidden":false,"merged":[]}
["Class","Neighborhood","PIN","Address","Distance from this property","Total Assessment","Bldg SqFt","Land SqFt","Age","$ Assessed Per Sq Ft of Land","% more land vs subject prop","$ Assessed Per Sq Ft of Bldg","% diff","$ Assessed Per Sq Ft of Land","% diff"]
["2-78","22","05-17-404-013-0000","874 Sheridan Rd",0,98650,3030,8400,63,{"$f":"F2/H2","v":11.744047619047619},"N/A",{"$f":"F2/G2","v":32.557755775577554},null,{"$f":"F2/H2","v":11.744047619047619}]
["2-78","22","05-20-120-028-0000","371 Berkeley Ave","2 miles",73054,3067,10479,61,{"$f":"F3/H3","v":6.9714667430098292},{"$f":"(H3-$H$2)/$H$2*100","v":24.75},23.81936746005869,{"$f":"($L$2-L3)/$L$2*100","v":26.83965189662662},6.9714667430098292,{"$f":"($N$2-N3)/$N$2*100","v":40.638296359571655}]
["2-78",22,"05-20-300-037-0000","355 Hibbard Rd","1.9 miles",51500,2899,12934,53,3.9817535178599042,53.976190476190474,17.764746464298035,45.436207007782002,3.9817535178599042,66.095560516955715]
[null,null,null,null,null,null,null,null,null,{"$error":"#DIV/0!"},-100,{"$error":"#DIV/0!"},{"$error":"#DIV/0!"},{"$error":"#DIV/0!"},{"$error":"#DIV/0!"}]
[null,null,null,null,null,null,null,null,null,{"$error":"#DIV/0!"},-100,{"$error":"#DIV/0!"},{"$error":"#DIV/0!"},{"$error":"#DIV/0!"},{"$error":"#DIV/0!"}]
["2-04","22","05-21-418-033-0000","196 Sheridan Rd","1.6 miles",100790,2882,16932,66,5.952634065674463,101.57142857142858,34.972241498959058,-7.4160078477911355,5.952634065674463,49.313607550263058]
["2-78","22","05-21-201-033-0000","380 Sheridan Rd","1.2 miles",110151,3166,12375,39,8.9010909090909092,47.321428571428569,34.791850915982309,-6.8619445265346251,8.9010909090909092,24.20763949684375]
["2-04",null,"05-18-402-072-0000","1284 Trapp Lane","1.4 miles",91767,2490,28084,57,3.2675900868822105,234.33333333333331,36.85421686746988,-13.196428898564367,3.2675900868822105,72.17662774474347]
[null,null,null,null,null,null,null,null,null,{"$error":"#DIV/0!"},-100,{"$error":"#DIV/0!"},{"$error":"#DIV/0!"},{"$error":"#DIV/0!"},{"$error":"#DIV/0!"}]
["2-78","22","05-17-402-025-0000","870 Prospect Ave","0.2 mile",93801,2861,12975,54,7.2293641618497109,54.464285714285708,32.786088780146805,-0.7013167803799597,7.2293641618497109,38.442312255917308]
[null,null,null,null,null,null,null,null,null,{"$error":"#DIV/0!"},-100,{"$error":"#DIV/0!"},{"$error":"#DIV/0!"},{"$error":"#DIV/0!"},{"$error":"#DIV/0!"}]
["2020 starts below",null,null,null,null,null,null,null,null,{"$error":"#DIV/0!"},-100,{"$error":"#DIV/0!"},{"$error":"#DIV/0!"},{"$error":"#DIV/0!"},{"$error":"#DIV/0!"}]
[null,22,"05-17-404-014-0000","870 Sheridan Rd",null,233490,5028,18600,19,12.553225806451612,121.42857142857142,46.437947494033416,-42.632519925921201,12.553225806451612,-6.8901133037947773]
[null,22,"05-17-404-012-0000","878 Sheridan Rd",null,115483,3498,9350,28,12.351122994652407,11.30952380952381,33.014008004574045,-1.4013626496293623,12.351122994652407,-5.1692175925800523,"NO "]
[null,"22","05-17-404-015-0000","860 Sheridan Rd","151 feet",106288,2973,9300,57,11.428817204301076,10.714285714285714,35.751093171880257,-9.8082233256940583,11.428817204301076,2.6841718032143516,"not really"]
[null,null,"05-17-404-016-0000","856 Sheridan Rd",null,245933,5733,18500,30,13.293675675675676,120.23809523809523,42.897784754927613,-31.759034776919087,13.293675675675676,-13.195008287557711]
[null,null,"05-17-404-032-0000","850 Sheridan Rd",null,103756,2982,14560,42,7.1260989010989011,73.333333333333329,34.794097920858484,-6.8688461228598232,7.1260989010989011,39.321610978985532]
[null,null,"05-17-404-031-0000","840 Sheridan Rd",null,119853,3571,14560,41,8.2316620879120883,73.333333333333329,33.562867544105295,-3.0871653914232677,8.2316620879120883,29.907793676166705]
[null,null,"05-17-404-030-0000","830 Sheridan Rd",null,205137,6301,27238,133,7.5312798296497538,224.26190476190476,32.556260910966515,4.591423995388211E-3,7.5312798296497538,35.871514881846998,"xxxxx"]
[null,null,"05-16-106-002-0000","859 Sheridan Rd",null,103480,3783,14900,94,6.94496644295302,77.38095238095238,27.353951890034363,15.983300327618725,6.94496644295302,40.863945138565263,"xxxxx age though"]
[null,null,"05-16-106-005-0000","849 Sheridan Rd",null,119371,3172,14900,89,8.0114765100671139,77.38095238095238,37.632723833543508,-15.587585621527463,8.0114765100671139,31.782663269575512,"xxxxx age though"]
[null,null,"05-21-113-005-0000","500 Sheridan Rd",null,108346,3396,9450,71,11.465185185185184,12.5,31.904004711425205,2.0079733648065057,11.465185185185184,2.3745001971053692]
[null,null,"05-17-409-015-0000","739 Humboldt Ave",null,null,null,null,null,{"$error":"#DIV/0!"},-100,{"$error":"#DIV/0!"},{"$error":"#DIV/0!"},{"$error":"#DIV/0!"},{"$error":"#DIV/0!"}]
[null,null,"05-16-101-016-0000","720 Humboldt Ave",null,163700,8069,34757,121,4.709842621630175,313.77380952380952,20.287520138802826,37.687596532617775,4.709842621630175,59.895916855860641,"xxxxx age though"]
[null,null,"05-17-404-005-0000","790 Tower Rd",null,79024,2222,7500,63,10.536533333333333,-10.714285714285714,35.564356435643568,-9.2346680182463459,10.536533333333333,10.281926001013685,"maybe"]
[null,null,"05-17-404-024-0000","800 Tower Rd",null,81569,2637,7280,64,11.204532967032968,-13.333333333333334,30.932499051952977,4.9919187760592703,11.204532967032968,4.5939412842605849]
[null,null,"05-17-404-029-0000","804 Tower Rd",null,85148,2800,7560,27,11.262962962962963,-10,30.41,6.5967562088190475,11.262962962962963,4.0964126823224634]
[null,null,"05-17-404-028-0000","875 Bryant Ave",null,108687,3035,11880,67,9.1487373737373741,41.428571428571431,35.811202635914334,-9.9928474270861063,9.1487373737373741,22.09894177456265]
[null,null,"05-17-403-006-0000","870 Bryant Ave",null,110781,3762,9075,101,12.207272727272727,8.0357142857142865,29.44736842105263,9.5534451943340315,12.207272727272727,-3.9443394922360984]
[null,null,"05-17-403-005-0000","830 Tower Rd",null,76000,2512,7500,121,10.133333333333333,-10.714285714285714,30.254777070063696,7.0735179703061242,10.133333333333333,13.715154586923466]
[null,null,"05-17-403-032-0000","840 Tower Rd",null,171157,3818,15067,12,11.35972655472224,79.36904761904762,44.828968046097437,-37.690596228763553,11.35972655472224,3.2724753576616132]
[null,null,"05-17-403-002-0000","848 Tower Rd",null,120151,3818,15000,123,8.0100666666666669,78.571428571428569,31.469617600838134,3.3421780734520459,8.0100666666666669,31.79466801824632]
[null,null,"05-17-402-025-0000","870 Prospect Ave",null,108459,2861,12975,56,8.3590751445086706,54.464285714285708,37.909472212513109,-16.43760851892015,8.3590751445086706,28.822877634188711]
[null,null,"05-14-407-015-0000","808 Prospect Ave",null,99098,2766,7500,116,13.213066666666666,-10.714285714285714,35.82718727404194,-10.04194368002746,13.213066666666666,-12.50862645717182]
[null,null,"05-17-402-024-0000","888 Tower Rd",null,210540,6212,18600,105,11.319354838709678,121.42857142857142,33.89246619446233,-4.0995160357028579,11.319354838709678,3.616238575609426]
[null,null,"05-17-402-001-0000","896 Tower Rd",null,66359,2039,7860,91,8.4426208651399488,-6.4285714285714279,32.544874938695436,3.9563036748928915E-2,8.4426208651399488,28.111489845741943]
[null,null,"05-17-402-002-0000","867 Lincoln Ave",null,62757,1716,7205,98,8.7102012491325471,-14.226190476190476,36.57167832167832,-12.328621707739808,8.7102012491325471,25.833055760047241]
[null,null,"05-17-401-004-0000","874 Lincoln Ave",null,111027,3057,15075,111,7.3649751243781099,79.464285714285708,36.318940137389596,-11.55234527753724,7.3649751243781099,37.287591439659273]
[null,null,"05-17-401-003-0000","922 Tower Rd",null,91103,2514,11250,96,8.0980444444444437,33.928571428571431,36.238265712012726,-11.304556621792775,8.0980444444444437,31.045541476600778]
[null,null,"05-17-401-029-0000","932 Tower Rd",null,129777,4585,15750,102,8.239809523809523,87.5,28.304689203925847,13.063144158240927,8.239809523809523,29.838418651799291]
[null,null,"05-18-106-018-0000","1565 Tower Rd",null,72527,2627,23353,59,3.1056823534449536,178.01190476190476,27.608298439284354,15.202083861093154,3.1056823534449536,73.555264299100244]
[null,null,"05-18-402-072-0000","1284 Trapp Lane",null,98621,3029,28084,60,3.5116436405070504,234.33333333333331,32.558930340046217,-3.6076333908241338E-3,3.5116436405070504,70.098523486812738]
[null,null,"05-18-402-050-0000","1339 Trapp Lane",null,116418,4183,21000,64,5.5437142857142856,150,27.831221611283766,14.517383190887156,5.5437142857142856,52.795539787126202]
[null,null,"05-20-104-028-0000","1247 Elm St",null,94000,4161,13050,70,7.2030651340996172,55.357142857142861,22.590723383801972,30.613388897192113,7.2030651340996172,38.666247210910505]
[null,null,"05-21-418-033-0000","196 Sheridan Rd",null,98907,2882,16932,68,5.8414245216158749,101.57142857142858,34.318875780707842,-5.4092180593459407,5.8414245216158749,50.260551463179567]
[null,null,"05-21-202-017-0000","359 Sheridan Rd",null,143612,3493,17600,53,8.1597727272727276,109.52380952380953,41.114228456913828,-26.280904434312124,8.1597727272727276,30.519928120536328]
[null,null,"05-21-410-002-0000","398 Elder Lane",null,117566,3391,8500,28,13.831294117647058,1.1904761904761905,34.670008846947802,-6.487710903448404,13.831294117647058,-17.772803434602423]
[null,null,"05-21-310-025-0000","680 Elder Lane",null,84274,3038,7598,75,11.091603053435115,-9.5476190476190474,27.739960500329165,14.797688478461858,11.091603053435115,5.5555340609680997]
[null,null,"05-18-106-032-0000","924 Pine Tree Lane",null,115724,3516,23465,51,4.9317707223524394,179.3452380952381,32.913538111490332,-1.0927729121294656,4.9317707223524394,58.00620976405424]
[null,null,"05-18-106-032-0000","924 Pine Tree Lane",null,115724,3516,23465,51,{"$f":"F51/H51","v":4.9317707223524394},{"$f":"(H51-$H$2)/$H$2*100","v":179.3452380952381},{"$f":"F51/G51","v":32.913538111490332},{"$f":"($L$2-L51)/$L$2*100","v":-1.0927729121294656},{"$f":"F51/H51","v":4.9317707223524394},{"$f":"($N$2-N51)/$N$2*100","v":58.00620976405424}]
[null,null,"05-17-118-065-0000","1233 Forest Glen Dr North",null,60960,1764,6576,71,9.2700729927007295,-21.714285714285715,34.557823129251702,-6.1431364233478636,9.2700729927007295,21.065774821402808]
[null,null,"05-18-400-008-0000","804 Boal Parkway",null,87957,2619,19800,65,4.4422727272727274,135.71428571428572,33.584192439862541,-3.1526640575605773,4.4422727272727274,62.17426162281712]
[null,null,"05-21-418-051-0000","127 Fuller Lane",null,83000,3432,8910,35,9.3153759820426494,6.0714285714285712,24.184149184149184,25.719237680717651,9.3153759820426494,20.680022048496443]
[null,null,"05-21-418-007-0000","159 Fuller Lane",null,90406,2528,7575,96,11.934785478547855,-9.8214285714285712,35.761867088607595,-9.8413150314049904,11.934785478547855,-1.6241236896117468]
[null,null,"05-18-402-060-0000","860 Hibbard Rd",null,116466,4246,19500,63,5.9726153846153842,132.14285714285714,27.429580781912389,15.751008850284293,5.9726153846153842,49.143467581582129]
[null,null,"05-20-300-037-0000","355 Hibbard Rd",null,57813,2899,12934,56,4.4698469151074685,53.976190476190474,19.942393928941016,38.747639528949534,4.4698469151074685,61.939468741102147]
[null,null,"05-18-218-009-0000","1346 Scott Ave",null,97724,3252,7950,25,12.292327044025157,-5.3571428571428568,30.050430504305044,7.7011612488147048,12.292327044025157,-4.6685729040155328]
[null,null,"05-21-109-022-0000","520 Maple St",null,126516,3580,13221,28,9.5693215339233042,57.392857142857146,35.339664804469272,-8.5445355879796328,9.5693215339233042,18.517687901717427]
[null,null,"05-28-201-014-0000","51 Warwick Rd",null,82568,3098,9000,111,9.1742222222222214,7.1428571428571423,26.652033570045191,18.139217722010201,9.1742222222222214,21.881939516810274]
[null,null,"05-20-113-019-0000","1091 Cherry St",null,64499,1350,8850,69,7.2880225988700564,5.3571428571428568,47.77703703703704,-46.745486287098068,7.2880225988700564,37.942838489094299]
[null,null,"05-20-304-029-0000","312 Rosewood Ave",null,68205,2848,7367,66,9.2581783629700016,-12.297619047619047,23.948384831460675,26.443379585072631,9.2581783629700016,21.167057020833234]
[null,null,"05-18-219-021-0000","1275 Asbury Ave",null,94805,3041,7950,28,11.925157232704402,-5.3571428571428568,31.175600131535678,4.2452423734889884,11.925157232704402,-1.5421396398550229]
[null,null,"05-18-217-016-0000","1437 Asbury Ave",null,69233,2860,7950,19,8.7085534591194964,-5.3571428571428568,24.207342657342657,25.647999744806633,8.7085534591194964,25.847086612667237]
[null,null,"05-18-219-015-0000","1305 Asbury Ave",null,85825,2784,7950,80,10.79559748427673,-5.3571428571428568,30.827945402298852,5.3130516280126407,10.79559748427673,8.0760072296760939]
[null,null,"05-20-225-030-0000","368 Birch St",null,92500,3502,9350,25,9.8930481283422456,11.30952380952381,26.413478012564248,18.871932713563428,9.8930481283422456,15.761171537683866]
[null,null,"05-18-221-020-0000","1423 Edgewood Ln",null,80000,3551,8050,103,9.9378881987577632,-4.1666666666666661,22.528865108420163,30.803384411035882,9.9378881987577632,15.37936049714626]
[null,null,"05-29-101-052-0000","996 Hill Rd",null,116152,3650,23344,61,4.975668265935572,177.9047619047619,31.822465753424659,2.2584174020509615,4.975668265935572,57.632424294111708]
[null,null,"05-21-311-033-0000","695 Hill Rd",null,122816,3267,8646,15,14.204950266018969,2.9285714285714288,37.592898683807775,-15.465264076976757,14.204950266018969,-20.954467546436231]
[null,null,"05-18-216-024-0000","980 Greenwood Ave",null,81812,2578,6910,13,11.839652677279306,-17.738095238095237,31.734678044996119,2.5280542561193595,11.839652677279306,-0.81407246745683792]
[null,null,"05-17-300-056-0000","1160 Chatfield Rd",null,100454,3225,9630,55,10.431360332294911,14.642857142857144,31.148527131782945,4.3283961385683387,10.431360332294911,11.177469040773181]
[null,null,"05-20-311-025-0000","1088 Mt Pleasant Rd",null,109296,2898,18339,57,5.9597578930148867,118.32142857142858,37.714285714285715,-15.838100065165465,5.9597578930148867,49.252948503471821]
[null,null,"05-17-200-055-0000","889 Private Rd",null,83908,3149,21488,61,3.9048771407297096,155.80952380952382,26.645919339472847,18.157997365836049,3.9048771407297096,66.75015916661981]
[null,null,"05-21-310-016-0000","663 Garland Ave",null,87272,2556,7980,96,10.936340852130327,-5,34.143974960876371,-4.8720163522102515,10.936340852130327,6.8775842291994449]
[null,null,"05-21-409-016-0000","435 Sunset Rd",null,91255,2634,9500,93,9.6057894736842098,13.095238095238097,34.645026575550496,-6.4109787368656992,9.6057894736842098,18.207165150585539]
[null,null,"05-21-318-010-0000","479 Sunset Rd",null,70592,2264,9570,99,7.3763845350052248,13.928571428571429,31.180212014134277,4.2310771385434682,7.3763845350052248,37.190440857532806]
[null,null,"05-20-107-008-0000","1016 Spruce St",null,84145,2904,8850,120,9.5079096045197744,5.3571428571428568,28.975550964187327,11.002615893068818,9.5079096045197744,19.040607523602525]
[null,null,"05-18-403-046-0000","1332 Sunview Lane",null,87717,2003,21755,72,4.032038611813376,158.98809523809524,43.792810783824265,-34.508075696895631,4.032038611813376,65.667385363170439]
[null,null,"05-20-308-057-0000","315 Auburn Ave",null,82601,3246,13900,57,5.9425179856115111,65.476190476190482,25.447011706715958,21.840399927674241,5.9425179856115111,49.399745484909587]
[null,null,"05-20-112-024-0000","1133 Cherry St",null,83210,2365,9350,85,8.8994652406417121,11.30952380952381,35.183932346723047,-8.0662088297727763,8.8994652406417121,24.221481985412687]
[null,null,"05-20-112-019-0000","1163 Cherry St",null,76535,2350,9350,91,8.1855614973262032,11.30952380952381,32.568085106382981,-3.172617571256095E-2,8.1855614973262032,30.30033798526091]
[null,null,"05-21-307-016-0000","566 Orchard Lane",null,105919,3242,7631,51,13.880094351985322,-9.1547619047619051,32.670882171499073,-0.34746374013401166,13.880094351985322,-18.188335080260227]
[null,null,"05-20-120-028-0000","371 Berkeley Ave",null,78658,3067,10479,63,7.5062505964309567,24.75,25.646560156504727,21.227493893350907,7.5062505964309567,36.084637597546845]
[null,null,"05-17-202-030-0000","850 Lamson Dr",null,108312,5088,20080,65,5.39402390438247,139.04761904761904,21.287735849056602,34.615469211716665,5.39402390438247,54.070146176570958]
[null,null,"05-20-308-054-0000","320 Euclid Ave",null,93977,3773,14800,55,6.3497972972972976,76.19047619047619,24.907765703684071,23.496675030752417,6.3497972972972976,45.931781756414289]

{"sheet":"REAL_orig","index":5,"n_rows":68,"n_cols":13,"rows_kept":68,"cut":false,"hidden":false,"merged":[]}
["PIN","Address","Distance from this property","Total Assessment","Bldg SqFt","Land SqFt","Age","$ Assessed Per Sq Ft of Land","% more land vs subject prop","$ Assessed Per Sq Ft of Bldg","% diff","$ Assessed Per Sq Ft of Land","% diff"]
["05-17-404-013-0000","874 Sheridan Rd",0,90758,3030,8400,63,{"$f":"D2/F2","v":10.804523809523809},"N/A",{"$f":"D2/E2","v":29.953135313531352},null,{"$f":"D2/F2","v":10.804523809523809}]
["05-21-201-033-0000","380 Sheridan Rd","1.2 miles",101639,3166,12375,41,8.2132525252525248,{"$f":"(F3-$F$2)/$F$2*100","v":47.321428571428569},32.103284902084653,{"$f":"($J$2-J3)/$J$2*100","v":-7.1783790446203115},8.2132525252525248,{"$f":"($L$2-L3)/$L$2*100","v":23.983206756295633}]
["05-17-404-014-0000","870 Sheridan Rd",null,214810,5028,18600,19,11.548924731182796,{"$f":"(F4-$F$2)/$F$2*100","v":121.42857142857142},42.722752585521079,{"$f":"($J$2-J4)/$J$2*100","v":-42.631988732815699},11.548924731182796,{"$f":"($L$2-L4)/$L$2*100","v":-6.8897152228293752}]
["05-17-404-012-0000","878 Sheridan Rd",null,106244,3498,9350,28,11.362994652406417,11.30952380952381,30.372784448256148,-1.4010190597149927,11.362994652406417,-5.1688612356088797]
["05-17-404-015-0000","860 Sheridan Rd","151 feet",97785,2973,9300,57,10.514516129032257,10.714285714285714,32.89101917255298,-9.8082682439405176,10.514516129032257,2.6841319951178275]
["05-17-404-016-0000","856 Sheridan Rd",null,226258,5733,18500,30,12.230162162162163,120.23809523809523,39.465899180184891,-31.7588251349305,12.230162162162163,-13.194828182818231]
["05-17-404-032-0000","850 Sheridan Rd",null,95455,2982,14560,42,6.5559752747252746,73.333333333333329,32.010395707578809,-6.8682639480418208,6.5559752747252746,39.321941528358593]
["05-17-404-031-0000","840 Sheridan Rd",null,110264,3571,14560,41,7.5730769230769228,73.333333333333329,30.877625315037804,-3.0864548630033175,7.5730769230769228,29.908276786788875]
["05-21-107-001-0000","568 Sheridan Rd",null,89666,2745,7321,62,12.247780357874607,-12.845238095238095,32.66520947176685,-9.0543915681852418,12.247780357874607,-13.357891322138766]
["05-21-200-010-0000","467 Sheridan Rd",null,160804,3651,21449,60,7.4970394890204668,155.3452380952381,44.04382360996987,-47.042448641672038,7.4970394890204668,30.612032319165337]
["05-21-418-049-0000","130 Sheridan Rd",null,52785,2132,9939,51,5.3108964684575914,18.321428571428573,24.75844277673546,17.342733848797405,5.3108964684575914,50.845622055307771]
["05-21-202-017-0000","359 Sheridan Rd",null,132123,3493,17600,53,7.5069886363636362,109.52380952380953,37.825078728886346,-26.280866203007598,7.5069886363636362,30.519949155496434]
["05-18-219-021-0000","1275 Asbury Ave",null,87220,3041,7950,28,10.971069182389938,-5.3571428571428568,28.681354817494245,4.2459010808881112,10.971069182389938,-1.5414411204251728]
["05-18-217-016-0000","1437 Asbury Ave",null,63694,2860,7950,19,8.0118238993710698,-5.3571428571428568,22.270629370629372,25.648419981701885,8.0118238993710698,25.847505724325142]
["05-20-308-057-0000","315 Auburn Ave",null,75992,3246,13900,57,5.4670503597122302,65.476190476190482,23.410967344423906,21.841346158350298,5.4670503597122302,49.400358071373617]
["05-20-308-051-0000","345 Auburn Ave",null,49703,2565,10495,58,4.7358742258218198,24.94047619047619,19.37738791423002,35.307647391836575,4.7358742258218198,56.167672825642597]
["05-20-120-028-0000","371 Berkeley Ave",null,67817,3067,10479,63,6.4717053153926898,24.75,22.111835670035866,26.178560479287029,6.4717053153926898,40.101892230658905]
["05-20-225-030-0000","368 Birch St",null,85100,3502,9350,25,9.1016042780748663,11.30952380952381,24.30039977155911,18.871932713563421,9.1016042780748663,15.761171537683866]
["05-18-400-008-0000","804 Boal Parkway",null,80920,2619,19800,65,4.0868686868686872,135.71428571428572,30.89728904161894,-3.152103171186444,4.0868686868686872,62.174467297982574]
["05-17-404-028-0000","875 Bryant Ave",null,99992,3035,11880,67,8.4168350168350177,41.428571428571431,32.946293245469519,-9.9928034264446648,8.4168350168350177,22.098972937466506]
["05-21-105-018-0000","566 Cedar St",null,103231,2976,10050,42,10.271741293532338,19.642857142857142,34.687836021505376,-15.807028741445709,10.271741293532338,4.931105945843183]
["05-17-300-056-0000","1160 Chatfield Rd",null,92417,3225,9630,55,9.5967808930425758,14.642857142857144,28.656434108527133,4.3291000806130393,9.5967808930425758,11.178122588027902]
["05-17-300-022-0000","1161 Chatfield Rd",null,156294,4215,11250,10,13.892799999999999,33.928571428571431,37.080427046263345,-23.794810319947491,13.892799999999999,-28.583177240573832]
["05-21-410-002-0000","398 Elder Lane",null,108160,3391,8500,28,12.724705882352941,1.1904761904761905,31.896195812444706,-6.4870020402691368,12.724705882352941,-17.772019449265859]
["05-20-210-042-0000","886 Elm St",null,89116,2790,10288,58,8.6621306376360803,22.476190476190478,31.941218637992833,-6.6373129345273023,8.6621306376360803,19.828668154715757]
["05-20-206-021-0000","893 Elm St",null,117036,2779,9350,12,12.517219251336899,11.30952380952381,42.114429650953582,-40.601073009970868,12.517219251336899,-15.851651326858185]
["05-20-308-054-0000","320 Euclid Ave",null,81526,3773,14800,55,5.5085135135135133,76.19047619047619,21.607739199575935,27.861511079227082,5.5085135135135133,49.016600725540989]
["05-21-418-051-0000","127 Fuller Lane",null,76360,3432,8910,35,8.5701459034792364,6.0714285714285712,22.249417249417249,25.719237680717661,8.5701459034792364,20.680022048496454]
["05-18-216-024-0000","980 Greenwood Ave",null,75267,2578,6910,13,10.89247467438495,-17.738095238095237,29.195888285492629,2.5281060567193312,10.89247467438495,-0.81401889071330125]
["05-18-216-001-0000","995 Grove St",null,56052,2693,7950,62,7.050566037735849,-5.3571428571428568,20.813962124025252,30.511574477405279,7.050566037735849,34.744314862622431]
["05-18-309-004-0000","777 Heather LN",null,162325,5299,21942,12,7.3979126788806857,161.21428571428572,30.633138327986412,-2.2702231580674246,7.3979126788806857,31.529488857623832]
["05-18-402-060-0000","860 Hibbard Rd",null,107148,4246,19500,63,5.4947692307692311,132.14285714285714,25.235044747998117,15.75157497252661,5.4947692307692311,49.143809318780121]
["05-20-300-037-0000","355 Hibbard Rd",null,53188,2899,12934,56,{"$f":"D34/F34","v":4.112262254522963},53.976190476190474,{"$f":"D34/E34","v":18.347016212487066},38.747593464117969,{"$f":"D34/F34","v":4.112262254522963},61.939440117683411]
["05-20-300-061-0000","277 Hibbard Rd",null,63501,3338,14904,54,4.2606682769726252,{"$f":"(F35-$F$2)/$F$2*100","v":77.428571428571431},19.023666866387057,{"$f":"($J$2-J35)/$J$2*100","v":36.488562324915947},4.2606682769726252,{"$f":"($L$2-L35)/$L$2*100","v":60.565885622677825}]
["05-20-300-044-0000","319 Hibbard Rd",null,101528,3862,17125,67,5.9286423357664235,103.86904761904762,26.288969445882962,12.232996076350977,5.9286423357664235,45.128147799160452]
["05-29-101-052-0000","996 Hill Rd",null,105698,3650,23344,61,4.5278444139821792,177.9047619047619,28.958356164383563,3.321118603228145,4.5278444139821792,58.093068294309802]
["05-21-311-033-0000","695 Hill Rd",null,112990,3267,8646,15,13.068470969234328,2.9285714285714288,34.585246403428222,-15.464528308675288,13.068470969234328,-20.953696799806469]
["05-20-410-003-0000","201 Linden St",null,161543,4217,18700,48,8.6386631016042781,122.61904761904762,38.307564619397674,-27.891668830047994,8.6386631016042781,20.04586917574656]
["05-20-315-009-0000","1210 Lindenwood Dr",null,79120,3841,21645,64,3.6553476553476552,157.67857142857142,20.598802395209582,31.229895703425552,3.6553476553476552,66.168359478040173]
["05-21-109-022-0000","520 Maple St",null,116394,3580,13221,28,8.803721352393918,57.392857142857146,32.512290502793299,-8.5438641480240864,8.803721352393918,18.518191938882619]
["05-20-311-025-0000","1088 Mt Pleasant Rd",null,99459,2898,18339,57,5.4233600523474559,118.32142857142858,34.319875776397517,-14.578575555305848,5.4233600523474559,49.804728575201487]
["05-20-401-013-0000","855 Mt Pleasant Rd",null,117874,3438,18700,52,6.3034224598930484,122.61904761904762,34.28563118091914,-14.464248306689214,6.3034224598930484,41.659414417349865]
["05-20-210-028-0000","907 Oak St",null,102648,3238,9350,19,10.978395721925134,11.30952380952381,31.701050030883263,-5.8354983511936034,10.978395721925134,-1.6092510458264007]
["05-20-110-014-0000","1041 Oak St",null,118943,3334,8850,12,13.439887005649718,5.3571428571428568,35.675764847030592,-19.105277205869125,13.439887005649718,-24.391294263268946]
["05-17-117-007-0000","960 Old Green Bay Rd",null,64978,2941,13352,60,4.8665368484122231,58.952380952380956,22.093845630737846,26.238621101020655,4.8665368484122231,54.958340282220107]
["05-21-307-016-0000","566 Orchard Lane",null,97445,3242,7631,51,12.769623902502948,-9.1547619047619051,30.057063541024061,-0.34696944545153929,12.769623902502948,-18.187752904454445]
["05-20-100-002-0000","1258 Pine St",null,62609,2087,21778,65,2.8748737257783086,159.26190476190476,29.999520843315764,-0.15486034867093859,2.8748737257783086,73.391944185043968]
["05-18-106-032-0000","924 Pine Tree Lane",null,109463,3516,23465,51,4.6649477945876834,179.3452380952381,31.13282138794084,-3.9384393722434941,4.6649477945876834,56.824124072217828]
["05-18-107-014-0000","985 Pine Tree Lane",null,147534,4443,21814,19,6.7632712936646193,159.69047619047618,33.205941931127619,-10.85965320006687,6.7632712936646193,37.403337593619511]
["05-17-200-055-0000","889 Private Rd",null,75517,3149,21488,61,3.5143801191362622,155.80952380952382,23.98126389329946,19.937383374801819,3.5143801191362622,67.473067938094047]
["05-17-402-025-0000","870 Prospect Ave",null,96501,2861,12975,56,7.4374566473988439,54.464285714285708,33.729814750087385,-12.608628101946696,7.4374566473988439,31.163494305570538]
["05-20-201-004-0000","603 Provident Ave",null,124362,3288,8556,16,14.535063113604489,1.8571428571428572,37.822992700729927,-26.273901896484809,14.535063113604489,-34.527567987701033]
["05-18-218-009-0000","1346 Scott Ave",null,89906,3252,7950,25,11.308930817610063,-5.3571428571428568,27.646371463714637,7.7012433779332365,11.308930817610063,-4.6684797680915544]
["05-20-103-017-0000","1027 Spruce St",null,101735,3214,8850,24,11.4954802259887,5.3571428571428568,31.653702551337897,-5.6774264864296624,11.4954802259887,-6.3950658876408513]
["05-20-100-010-0000","1225 Spruce St",null,94309,3883,21776,65,4.3308688464364442,159.23809523809524,24.287664177182592,18.914451115203885,4.3308688464364442,59.916152504389551]
["05-20-308-069-0000","1220 Sunset Rd",null,74841,3276,12693,49,5.8962420231623733,51.107142857142861,22.845238095238095,23.730060789603748,5.8962420231623733,45.428025083668729]
["05-18-403-046-0000","1332 Sunview Lane",null,80699,2003,21755,72,3.7094461043438289,158.98809523809524,40.289066400399399,-34.507008961425086,3.7094461043438289,65.667657642865464]
["05-17-404-005-0000","790 Tower Rd",null,72702,2222,7500,63,9.6936,-10.714285714285714,32.719171917191716,-9.2345478184742973,9.6936,10.282024725093104]
["05-17-404-024-0000","800 Tower Rd",null,70512,2637,7280,64,9.6857142857142851,-13.333333333333334,26.739476678043232,10.728955756549288,9.6857142857142851,10.355010026664321]
["05-17-404-029-0000","804 Tower Rd",null,90121,2800,7560,27,11.920767195767196,-10,32.186071428571431,-7.4547658923416567,11.920767195767196,-10.331259442081631]
["05-17-403-032-0000","840 Tower Rd",null,157464,3818,15067,12,10.45091922745072,79.36904761904762,41.242535358826608,-37.690211482452931,10.45091922745072,3.272745641611702]
["05-18-106-019-0000","1555 Tower Rd",null,58880,2581,23353,59,2.5213034727872223,178.01190476190476,22.812863231305695,23.838145848458254,2.5213034727872223,76.664372097872729]
["05-18-106-018-0000","1565 Tower Rd",null,66724,2627,23353,59,2.8571917954866612,178.01190476190476,25.399314807765514,15.203151383316612,2.8571917954866612,73.555597212270044]
["05-18-402-072-0000","1284 Trapp Lane",null,80542,3029,28084,60,2.8678963110667994,234.33333333333331,26.590293826345327,11.227009967356768,2.8678963110667994,73.456522826680725]
["05-18-402-050-0000","1339 Trapp Lane",null,107104,4183,21000,64,5.1001904761904759,150,25.604590007171886,14.517830139788426,5.1001904761904759,52.795786597324756]
["05-29-102-068-0000","65 Woodley Rd",null,159363,5200,52141,64,3.0563855698970102,520.72619047619048,30.646730769230768,{"$f":"($J$2-J67)/$J$2*100","v":-2.3156021846770876},3.0563855698970102,{"$f":"($L$2-L67)/$L$2*100","v":71.711982649314791}]
["05-29-301-001-0000","130 Woodley Rd",null,180467,4249,49789,23,3.6246359637670973,492.72619047619048,42.472817133443165,-41.797567062223493,3.6246359637670973,66.452607929170298]

{"sheet":"REAL","index":6,"n_rows":78,"n_cols":17,"rows_kept":78,"cut":false,"hidden":false,"merged":[]}
["PIN","Address","Distance from this property","Total Assessment","Bldg SqFt","Land SqFt","Age","$ Assessed Per Sq Ft of Land","% more land vs subject prop","$ Assessed Per Sq Ft of Bldg","% diff","$ Assessed Per Sq Ft of Land","% diff","%diffAbs"]
["05-17-404-013-0000","874 Sheridan Rd",0,80409,3030,8398,63,{"$f":"D2/F2","v":9.5747797094546314},"N/A",{"$f":"D2/E2","v":26.537623762376239},null,{"$f":"D2/F2","v":9.5747797094546314}]
["05-21-201-033-0000","380 Sheridan Rd","1.2 miles",101641,3166,12375,43,{"$f":"D3/F3","v":8.2134141414141411},{"$f":"(F3-$F$2)/$F$2*100","v":47.356513455584661},{"$f":"D3/E3","v":32.103916614024008},{"$f":"($J$2-J3)/$J$2*100","v":-20.975098982070094},{"$f":"D3/F3","v":8.2134141414141411},{"$f":"($L$2-L3)/$L$2*100","v":14.218244276640723},14.218244276640723]
["05-17-404-014-0000","870 Sheridan Rd",null,214811,5028,18600,21,11.548978494623656,{"$f":"(F4-$F$2)/$F$2*100","v":121.48130507263635},42.722951471758151,{"$f":"($J$2-J4)/$J$2*100","v":-60.990116727514575},11.548978494623656,{"$f":"($L$2-L4)/$L$2*100","v":-20.61873844700154},-20.61873844700154]
["05-17-404-012-0000","878 Sheridan Rd",null,106245,3498,9348,30,11.36553273427471,11.312217194570136,30.373070325900514,-14.452863594222729,11.36553273427471,-18.702811752961761,-18.702811752961761]
["05-17-404-015-0000","860 Sheridan Rd","151 feet",98265,2973,9300,59,10.566129032258065,10.740652536318171,33.052472250252272,-24.549479434223013,10.566129032258065,-10.35375593889146,-10.35375593889146]
["05-17-404-016-0000","856 Sheridan Rd",null,205875,5733,18500,32,11.128378378378379,120.29054536794474,35.910518053375199,-35.319267372715551,11.128378378378379,-16.225946873635579,-16.225946873635579,null,null,"all updated on 5.10.21"]
["05-17-404-032-0000","850 Sheridan Rd",null,89255,2195,14560,42,6.1301510989010985,73.374613003095973,40.662870159453306,-53.227246431548103,6.1301510989010985,35.976061226266424,35.976061226266424]
["05-17-404-031-0000","840 Sheridan Rd",null,110264,3571,14560,41,7.5730769230769228,73.374613003095973,30.877625315037804,-16.354145312794017,7.5730769230769228,20.905993110223978,20.905993110223978]
["05-21-107-001-0000","568 Sheridan Rd",null,77062,2745,7322,63,10.524720021851953,-12.812574422481543,28.0735883424408,-5.7878753343476745,10.524720021851953,-9.9212759063198277,-9.9212759063198277]
["05-21-200-010-0000","467 Sheridan Rd",null,151852,3651,21449,60,7.0796773742365611,155.40604905929982,41.591892632155577,-56.728021335212965,7.0796773742365611,26.059109566294019,26.059109566294019]
["05-21-418-049-0000","130 Sheridan Rd",null,52786,2132,9940,53,5.3104627766599597,18.361514646344368,24.75891181988743,6.7026044170939683,5.3104627766599597,44.536971734021883,44.536971734021883]
["05-21-202-017-0000","359 Sheridan Rd",null,132123,3493,17598,55,7.5078418002045684,109.54989283162658,37.825078728886346,-42.533781726579896,7.5078418002045684,21.587315551595012,21.587315551595012]
["05-21-411-005-0000","246 Sheridan Rd",null,203495,5850,24690,93,8.2420008100445532,193.99857108835437,34.785470085470088,-31.079822356918207,8.2420008100445532,13.919682121710053,13.919682121710053,"2021-04-18"]
["05-21-403-022-0000","349 Sheridan Rd",null,134818,3505,21782,32,6.1894224589110278,159.37127887592283,38.464479315263908,-44.943193330659057,6.1894224589110278,35.357024947537198,35.357024947537198,"2021-04-18"]
["05-18-219-021-0000","1275 Asbury Ave",null,87221,3041,7950,30,10.971194968553458,-5.3346034770183373,28.681683656691877,-8.0793213194746674,10.971194968553458,-14.584306913295714,-14.584306913295714]
["05-18-217-016-0000","1437 Asbury Ave",null,63694,2860,7950,21,8.0118238993710698,-5.3346034770183373,22.270629370629372,16.079037181152614,8.0118238993710698,16.323673833876494,16.323673833876494]
["05-20-308-057-0000","315 Auburn Ave",null,61656,3246,13900,57,4.4356834532374103,65.515598952131455,18.994454713493532,28.424432859648295,4.4356834532374103,53.673258415988542,53.673258415988542]
["05-20-308-051-0000","345 Auburn Ave",null,49704,2565,10494,60,4.7364208118925104,24.958323410335794,19.377777777777776,26.979981511190708,4.7364208118925104,50.53232601043004,50.53232601043004]
["05-20-120-028-0000","371 Berkeley Ave",null,67818,3067,10481,65,6.4705657857074703,24.803524648725887,22.112161721552006,16.676180506780863,6.4705657857074703,32.420734658593766,32.420734658593766]
["05-20-225-030-0000","368 Birch St",null,85100,3502,9348,27,9.1035515618314076,11.312217194570136,24.30039977155911,8.4303855192526935,9.1035515618314076,4.9215560244995391,4.9215560244995391]
["05-18-400-008-0000","804 Boal Parkway",null,80920,2619,19798,67,4.0872815435902616,135.74660633484163,30.89728904161894,-16.428242853542994,4.0872815435902616,57.312004373800171,57.312004373800171]
["05-17-404-028-0000","875 Bryant Ave",null,91770,3035,11879,67,7.7253977607542721,41.450345320314355,30.237232289950576,-13.940993966533899,7.7253977607542721,19.315138361608302,19.315138361608302]
["05-21-105-018-0000","566 Cedar St",null,99334,2976,10049,42,9.8849636779779075,19.659442724458202,33.37836021505376,-25.777501836377631,9.8849636779779075,-3.2395937863404258,-3.2395937863404258]
["05-17-300-056-0000","1160 Chatfield Rd",null,92419,3225,9631,57,9.5959921088152846,14.682067158847346,28.657054263565893,-7.9865119807542104,9.5959921088152846,-0.22154451595065949,-0.22154451595065949]
["05-17-300-022-0000","1161 Chatfield Rd",null,156295,4215,11252,12,13.890419480981159,33.984281971898071,37.080664294187429,-39.72865327436967,13.890419480981159,-45.072992825777931,-45.072992825777931]
["05-21-410-002-0000","398 Elder Lane",null,108161,3391,8499,30,12.726320743616895,1.2026673017385092,31.896490710704807,-20.193469454209804,12.726320743616895,-32.915023946193458,-32.915023946193458]
["05-20-210-042-0000","886 Elm St",null,89117,2790,10289,60,8.6613859461560896,22.517266015718029,31.941577060931898,-20.363365412607603,8.6613859461560896,9.5395799278453346,9.5395799278453346]
["05-20-206-021-0000","893 Elm St",null,92900,2779,9348,12,9.9379546427043213,11.312217194570136,33.429291111910757,-25.96942141935553,9.9379546427043213,-3.7930369603289376,-3.7930369603289376]
["05-20-308-060-0000","290 Euclid Ave",null,66233,2637,14340,60,4.6187587168758713,70.754941652774477,25.116799393249906,5.3539999732029848,4.6187587168758713,51.761201228315777,51.761201228315777,"2021-07-09"]
["05-20-308-054-0000","320 Euclid Ave",null,81526,3773,14802,57,5.507769220375625,76.256251488449635,21.607739199575935,18.576963057972264,5.507769220375625,42.476282614241562,42.476282614241562]
["05-21-418-051-0000","127 Fuller Lane",null,76361,3432,8908,37,8.5721823080377195,6.0728744939271255,22.249708624708624,16.157871466045929,8.5721823080377195,10.47123204753103,10.47123204753103]
["05-18-216-024-0000","980 Greenwood Ave",null,75267,2578,6909,15,10.894051237516283,-17.730412002857822,29.195888285492629,-10.016965146989344,10.894051237516283,-13.77860972361521,-13.77860972361521]
["05-18-216-001-0000","995 Grove St",null,56052,2693,7950,63,7.050566037735849,-5.3346034770183373,20.813962124025252,21.568101536150788,7.050566037735849,26.363151407298108,26.363151407298108]
["05-21-315-004-0000","470 Hawthorn Ln",null,85101,2462,14375,98,5.9200695652173909,71.171707549416524,34.565800162469536,-30.252054486789646,5.9200695652173909,38.170174720869987,38.170174720869987,"2021-07-09"]
["05-21-308-019-0000","533 Hawthorn Ln",null,124653,3712,12375,21,10.072969696969697,47.356513455584661,33.581088362068968,-26.541429114985849,10.072969696969697,-5.2031482982645203,-5.2031482982645203,"2021-04-16"]
["05-18-309-004-0000","777 Heather LN",null,162327,5299,21941,14,7.398341005423636,161.26458680638248,30.63351575769013,-15.43428315959792,7.398341005423636,22.730953296835306,22.730953296835306]
["05-18-309-003-0000","795 Heather LN",null,100618,3120,21728,65,4.6307989690721651,158.72826863538938,32.249358974358977,-21.523159960088666,4.6307989690721651,51.635451575982728,51.635451575982728,"2021-07-09"]
["05-18-402-060-0000","860 Hibbard Rd",null,100502,4246,19502,63,5.1534201620346627,132.22195760895451,23.669806877060765,10.806607671412262,5.1534201620346627,46.177141214581575,46.177141214581575]
["05-20-300-037-0000","355 Hibbard Rd",null,53188,2899,12933,58,4.1125802211397202,54.00095260776375,18.347016212487066,30.864133214147909,4.1125802211397202,57.047782341365547,57.047782341365547]
["05-20-300-061-0000","277 Hibbard Rd",null,63501,3338,14902,56,4.2612401019997312,77.447011193141222,19.023666866387057,28.314354605637703,4.2612401019997312,55.495163008377489,55.495163008377489]
["05-20-300-044-0000","319 Hibbard Rd",null,87441,3862,17123,67,5.1066401915552184,103.8937842343415,22.641377524598653,14.681971048596655,5.1066401915552184,46.665716115508552,46.665716115508552]
["05-29-101-052-0000","996 Hill Rd",null,105699,3650,23344,63,4.5278872515421522,177.97094546320554,28.958630136986301,-9.1229207116970592,4.5278872515421522,52.710272309752646,52.710272309752646]
["05-21-311-033-0000","695 Hill Rd",null,112991,3267,8647,17,13.067075286226437,2.9649916646820671,34.585552494643402,-30.326485914225405,13.067075286226437,-36.473900003394675,-36.473900003394675]
["05-20-410-003-0000","201 Linden St",null,82500,4217,18700,48,4.4117647058823533,122.67206477732793,19.56367085605881,26.279492726114999,4.4117647058823533,53.923068313248514,53.923068313248514]
["05-20-315-009-0000","1210 Lindenwood Dr",null,79121,3841,21645,66,3.6553938553938554,157.73993808049536,20.599062744077063,22.377892879461879,3.6553938553938554,61.8226845283518,61.8226845283518]
["05-21-109-022-0000","520 Maple St",null,116395,3580,13220,30,8.8044629349470505,57.418432960228628,32.512569832402235,-22.515000301183662,8.8044629349470505,8.0452689031261002,8.0452689031261002]
["05-20-311-025-0000","1088 Mt Pleasant Rd",null,92941,2898,18339,59,5.0679426359125364,118.37342224339129,32.070738440303657,-20.850075829969377,5.0679426359125364,47.069877431141435,47.069877431141435]
["05-20-401-013-0000","855 Mt Pleasant Rd",null,117874,3438,18700,54,6.3034224598930484,122.67206477732793,34.28563118091914,-29.196311952872179,6.3034224598930484,34.166397022495218,34.166397022495218]
["05-20-210-028-0000","907 Oak St",null,102648,3238,9348,21,10.980744544287548,11.312217194570136,31.701050030883263,-19.457003063806642,10.980744544287548,-14.684043680342789,-14.684043680342789]
["05-20-110-014-0000","1041 Oak St",null,114916,3334,8851,12,12.983391707151734,5.3941414622529171,34.467906418716254,-29.883167865177089,12.983391707151734,-35.599899957293665,-35.599899957293665]
["05-17-117-007-0000","960 Old Green Bay Rd",null,64978,2941,13351,62,4.8669013557036926,58.978328173374614,22.093845630737846,16.745199839401472,4.8669013557036926,49.169573573605426,49.169573573605426]
["05-21-307-016-0000","566 Orchard Lane",null,97447,3242,7632,53,12.768212788259959,-9.121219337937605,30.057680444170266,-13.264400435070581,12.768212788259959,-33.352548838820454,-33.352548838820454]
["05-20-100-002-0000","1258 Pine St",null,62609,2087,21780,67,2.8746097337006429,159.34746368182903,29.999520843315764,-13.045241397414173,2.8746097337006429,69.977275499486382,69.977275499486382]
["05-18-106-032-0000","924 Pine Tree Lane",null,109463,3516,23466,53,4.6647489985510955,179.42367230292925,31.13282138794084,-17.315784060815012,4.6647489985510955,51.280873919794921,51.280873919794921]
["05-18-107-014-0000","985 Pine Tree Lane",null,147535,4443,21815,21,6.763007105202842,159.76422957847106,33.206167004276388,-25.128637370141966,6.763007105202842,29.366446953085511,29.366446953085511]
["05-17-200-055-0000","889 Private Rd",null,65310,3149,21488,61,3.0393708116157856,155.87044534412954,20.739917434106065,21.847119320795713,3.0393708116157856,68.256493581627225,68.256493581627225]
["05-17-402-025-0000","870 Prospect Ave",null,96503,2861,12977,58,7.4364645141404022,54.524886877828052,33.730513806361415,-27.10449928897895,7.4364645141404022,22.332787387293585,22.332787387293585]
["05-20-201-004-0000","603 Provident Ave",null,124364,3288,8555,18,14.536995908825249,1.8694927363658014,37.823600973236012,-42.528213196165993,14.536995908825249,-51.825904615546079,-51.825904615546079]
["05-18-218-009-0000","1346 Scott Ave",null,89906,3252,7950,27,11.308930817610063,-5.3346034770183373,27.646371463714637,-4.1780217824563746,11.308930817610063,-18.111655419529306,-18.111655419529306]
["05-18-216-012-0000","1468 Scott Ave",null,63981,2930,6930,33,9.2324675324675329,-17.480352464872588,21.836518771331058,17.714867891488385,9.2324675324675329,3.5751441534376172,3.5751441534376172,"2021-07-09"]
["05-20-103-017-0000","1027 Spruce St",null,101735,3214,8851,26,11.494181448423907,5.3941414622529171,31.653702551337897,-19.278586639000391,11.494181448423907,-20.046432369341712,-20.046432369341712]
["05-20-100-010-0000","1225 Spruce St",null,97131,3883,21776,67,4.4604610580455546,159.29983329364134,25.014421838784443,5.7397826468220465,4.4604610580455546,53.414478521724476,53.414478521724476]
["05-20-308-069-0000","1220 Sunset Rd",null,74842,3276,12693,51,5.8963208067438746,51.143129316503931,22.845543345543344,13.912626276913864,5.8963208067438746,38.418209236484643,38.418209236484643]
["05-20-313-016-0000","1240 Sunset Rd",null,59002,2501,13499,59,4.3708422846136754,60.740652536318173,23.591363454618154,11.102200913463662,4.3708422846136754,54.350466358012596,54.350466358012596,"2021-07-09"]
["05-18-403-046-0000","1332 Sunview Lane",null,80700,2003,21754,74,3.7096625907879011,159.03786615860921,40.289565651522715,-51.820547356780736,3.7096625907879011,61.255896183963486,61.255896183963486]
["05-17-404-005-0000","790 Tower Rd",null,72702,2222,7501,65,9.6923076923076916,-10.68111455108359,32.719171917191716,-23.293525487309751,9.6923076923076916,-1.2274745364324884,-1.2274745364324884]
["05-17-404-024-0000","800 Tower Rd",null,70512,2637,7279,66,9.6870449237532625,-13.324601095498927,26.739476678043232,-0.76062920129710632,9.6870449237532625,-1.1725096316082828,-1.1725096316082828]
["05-17-404-029-0000","804 Tower Rd",null,85442,2800,7562,27,11.298862734726264,-9.9547511312217196,30.515000000000001,-14.987687945379246,11.298862734726264,-18.006503309618534,-18.006503309618534]
["05-17-403-032-0000","840 Tower Rd",null,141912,3818,15067,12,9.4187296741222539,79.411764705882348,37.16919853326349,-40.062271083819432,9.4187296741222539,1.629802878684359,1.629802878684359]
["05-18-106-019-0000","1555 Tower Rd",null,58880,2581,23353,61,2.5213034727872223,178.07811383662778,22.812863231305695,14.035772623890047,2.5213034727872223,73.667243014504479,73.667243014504479]
["05-18-106-018-0000","1565 Tower Rd",null,66725,2627,23353,61,2.85723461653749,178.07811383662778,25.399695470118004,4.2879811035362332,2.85723461653749,70.158743039110249,70.158743039110249]
["05-18-402-072-0000","1284 Trapp Lane",null,80543,3029,28083,62,2.8680340419470856,234.40104786854016,26.590623968306371,-0.19971722564427027,2.8680340419470856,70.045952711423325,70.045952711423325]
["05-18-402-050-0000","1339 Trapp Lane",null,107105,4183,21000,66,{"$f":"D74/F74","v":5.1002380952380957},150.05953798523456,{"$f":"D74/E74","v":25.604829070045422},3.5149895133161371,{"$f":"D74/F74","v":5.1002380952380957},46.73258027856393,46.73258027856393]
["05-18-402-061-0000","1383 Westmoor Trl",null,78020,3075,20996,64,3.715945894456087,150.01190759704693,25.372357723577235,4.3909961541133224,3.715945894456087,61.190272703749301,61.190272703749301,"2021-07-09"]
["05-20-314-005-0000","140 Westview Rd",null,82176,2922,23039,66,3.5668214766265898,174.33912836389615,28.123203285420946,-5.9748360940012475,3.5668214766265898,62.747743709398073,62.747743709398073,"2021-07-09"]
["05-29-102-068-0000","65 Woodley Rd",null,159365,5200,52141,66,3.0564239274275522,{"$f":"(F77-$F$2)/$F$2*100","v":520.87401762324362},30.647115384615386,{"$f":"($J$2-J77)/$J$2*100","v":-15.485529748392116},3.0564239274275522,{"$f":"($L$2-L77)/$L$2*100","v":68.078389057771417},68.078389057771417]
["05-29-301-001-0000","130 Woodley Rd",null,180468,4249,49789,25,3.6246560485247747,492.86734936889741,42.473052482937163,-60.048438636594902,3.6246560485247747,62.143713395874755,62.143713395874755]

{"sheet":"Sheet5","index":7,"n_rows":72,"n_cols":14,"rows_kept":72,"cut":false,"hidden":false,"merged":[]}
["05-17-404-030-0000","830 Sheridan Rd",null,205137,6301,27238,133,{"$f":"D1/F1","v":7.5312798296497538},{"$f":"(F1-REAL_orig!$F$2)/REAL_orig!$F$2*100","v":224.26190476190476},{"$f":"D1/E1","v":32.556260910966515},{"$f":"(REAL_orig!$J$2-J1)/REAL_orig!$J$2*100","v":-8.6906614956571815},{"$f":"D1/F1","v":7.5312798296497538},{"$f":"(REAL_orig!$L$2-L1)/REAL_orig!$L$2*100","v":30.295124871572828},"xxxxx"]
["05-16-106-002-0000","859 Sheridan Rd",null,103480,3783,14900,94,6.94496644295302,{"$f":"(F2-REAL_orig!$F$2)/REAL_orig!$F$2*100","v":77.38095238095238},27.353951890034363,{"$f":"(REAL_orig!$J$2-J2)/REAL_orig!$J$2*100","v":8.6775003561073127},6.94496644295302,{"$f":"(REAL_orig!$L$2-L2)/REAL_orig!$L$2*100","v":35.721679498440501},"xxxxx age though"]
["05-16-106-005-0000","849 Sheridan Rd",null,119371,3172,14900,89,8.0114765100671139,{"$f":"(F3-REAL_orig!$F$2)/REAL_orig!$F$2*100","v":77.38095238095238},37.632723833543508,{"$f":"(REAL_orig!$J$2-J3)/REAL_orig!$J$2*100","v":-25.638680023399406},8.0114765100671139,{"$f":"(REAL_orig!$L$2-L3)/REAL_orig!$L$2*100","v":25.850720945190776},"xxxxx age though"]
["05-21-113-005-0000","500 Sheridan Rd",null,108346,3396,9450,71,11.465185185185184,{"$f":"(F4-REAL_orig!$F$2)/REAL_orig!$F$2*100","v":12.5},31.904004711425205,{"$f":"(REAL_orig!$J$2-J4)/REAL_orig!$J$2*100","v":-6.5130724295581404},11.465185185185184,{"$f":"(REAL_orig!$L$2-L4)/REAL_orig!$L$2*100","v":-6.1146736987985086}]
["05-21-411-005-0000","246 Sheridan Rd",null,219691,5850,24688,93,8.8986957226182763,{"$f":"(F5-REAL_orig!$F$2)/REAL_orig!$F$2*100","v":193.90476190476193},37.554017094017091,{"$f":"(REAL_orig!$J$2-J5)/REAL_orig!$J$2*100","v":-25.375913742999835},8.8986957226182763,{"$f":"(REAL_orig!$L$2-L5)/REAL_orig!$L$2*100","v":17.639167819923841},"2021-01-04"]
["05-16-101-016-0000","720 Humboldt Ave",null,163700,8069,34757,121,4.709842621630175,{"$f":"(F6-REAL_orig!$F$2)/REAL_orig!$F$2*100","v":313.77380952380952},20.287520138802826,{"$f":"(REAL_orig!$J$2-J6)/REAL_orig!$J$2*100","v":32.269126665888884},4.709842621630175,{"$f":"(REAL_orig!$L$2-L6)/REAL_orig!$L$2*100","v":56.408605278109405},"xxxxx age though"]
["05-21-418-033-0000","196 Sheridan Rd",null,98907,2882,16932,68,5.8414245216158749,{"$f":"(F7-REAL_orig!$F$2)/REAL_orig!$F$2*100","v":101.57142857142858},34.318875780707842,{"$f":"(REAL_orig!$J$2-J7)/REAL_orig!$J$2*100","v":-14.575237021028192},5.8414245216158749,{"$f":"(REAL_orig!$L$2-L7)/REAL_orig!$L$2*100","v":45.935382025195189}]
[]
[]
["05-17-403-002-0000","848 Tower Rd",null,120151,3818,15000,123,{"$f":"D10/F10","v":8.0100666666666669},{"$f":"(F10-REAL_orig!$F$2)/REAL_orig!$F$2*100","v":78.571428571428569},{"$f":"D10/E10","v":31.469617600838134},{"$f":"(REAL_orig!$J$2-J10)/REAL_orig!$J$2*100","v":-5.0628499201608141},{"$f":"D10/F10","v":8.0100666666666669},{"$f":"(REAL_orig!$L$2-L10)/REAL_orig!$L$2*100","v":25.863769585050349}]
["05-17-402-024-0000","888 Tower Rd",null,210540,6212,18600,105,11.319354838709678,{"$f":"(F11-REAL_orig!$F$2)/REAL_orig!$F$2*100","v":121.42857142857142},33.89246619446233,{"$f":"(REAL_orig!$J$2-J11)/REAL_orig!$J$2*100","v":-13.151647864894406},11.319354838709678,{"$f":"(REAL_orig!$L$2-L11)/REAL_orig!$L$2*100","v":-4.7649580699897509}]
["05-17-402-001-0000","896 Tower Rd",null,66359,2039,7860,91,8.4426208651399488,{"$f":"(F12-REAL_orig!$F$2)/REAL_orig!$F$2*100","v":-6.4285714285714279},32.544874938695436,{"$f":"(REAL_orig!$J$2-J12)/REAL_orig!$J$2*100","v":-8.6526488730989843},8.4426208651399488,{"$f":"(REAL_orig!$L$2-L12)/REAL_orig!$L$2*100","v":21.860315049719507}]
["05-17-401-003-0000","922 Tower Rd",null,91103,2514,11250,96,8.0980444444444437,{"$f":"(F13-REAL_orig!$F$2)/REAL_orig!$F$2*100","v":33.928571428571431},36.238265712012726,{"$f":"(REAL_orig!$J$2-J13)/REAL_orig!$J$2*100","v":-20.983213719339965},8.0980444444444437,{"$f":"(REAL_orig!$L$2-L13)/REAL_orig!$L$2*100","v":25.049501605000852}]
["05-17-401-029-0000","932 Tower Rd",null,129777,4585,15750,102,8.239809523809523,{"$f":"(F14-REAL_orig!$F$2)/REAL_orig!$F$2*100","v":87.5},28.304689203925847,{"$f":"(REAL_orig!$J$2-J14)/REAL_orig!$J$2*100","v":5.5034175633053621},8.239809523809523,{"$f":"(REAL_orig!$L$2-L14)/REAL_orig!$L$2*100","v":23.737411578042714}]
["05-18-224-029-0000","1507 Tower Rd",null,72372,2676,7500,72,9.6495999999999995,{"$f":"(F15-REAL_orig!$F$2)/REAL_orig!$F$2*100","v":-10.714285714285714},27.044843049327355,{"$f":"(REAL_orig!$J$2-J15)/REAL_orig!$J$2*100","v":9.7094752644814903},9.6495999999999995,{"$f":"(REAL_orig!$L$2-L15)/REAL_orig!$L$2*100","v":10.689261552700593}]
["05-17-403-005-0000","830 Tower Rd",null,76000,2512,7500,121,10.133333333333333,{"$f":"(F16-REAL_orig!$F$2)/REAL_orig!$F$2*100","v":-10.714285714285714},30.254777070063696,{"$f":"(REAL_orig!$J$2-J16)/REAL_orig!$J$2*100","v":-1.0070456844498594},10.133333333333333,{"$f":"(REAL_orig!$L$2-L16)/REAL_orig!$L$2*100","v":6.2121245510037717}]
[]
["05-17-403-006-0000","870 Bryant Ave",null,110781,3762,9075,101,{"$f":"D18/F18","v":12.207272727272727},{"$f":"(F18-REAL_orig!$F$2)/REAL_orig!$F$2*100","v":8.0357142857142865},{"$f":"D18/E18","v":29.44736842105263},{"$f":"(REAL_orig!$J$2-J18)/REAL_orig!$J$2*100","v":1.688527385145691},{"$f":"D18/F18","v":12.207272727272727},{"$f":"(REAL_orig!$L$2-L18)/REAL_orig!$L$2*100","v":-12.982977708952278}]
[]
["05-14-407-015-0000","808 Prospect Ave",null,99098,2766,7500,116,{"$f":"D20/F20","v":13.213066666666666},{"$f":"(F20-REAL_orig!$F$2)/REAL_orig!$F$2*100","v":-10.714285714285714},{"$f":"D20/E20","v":35.82718727404194},{"$f":"(REAL_orig!$J$2-J20)/REAL_orig!$J$2*100","v":-19.610808347855926},{"$f":"D20/F20","v":13.213066666666666},{"$f":"(REAL_orig!$L$2-L20)/REAL_orig!$L$2*100","v":-22.291985279534586}]
["05-17-402-002-0000","867 Lincoln Ave",null,62757,1716,7205,98,8.7102012491325471,{"$f":"(F21-REAL_orig!$F$2)/REAL_orig!$F$2*100","v":-14.226190476190476},36.57167832167832,{"$f":"(REAL_orig!$J$2-J21)/REAL_orig!$J$2*100","v":-22.096327943195437},8.7102012491325471,{"$f":"(REAL_orig!$L$2-L21)/REAL_orig!$L$2*100","v":19.383756260920915}]
["05-17-401-004-0000","874 Lincoln Ave",null,111027,3057,15075,111,7.3649751243781099,{"$f":"(F22-REAL_orig!$F$2)/REAL_orig!$F$2*100","v":79.464285714285708},36.318940137389596,{"$f":"(REAL_orig!$J$2-J22)/REAL_orig!$J$2*100","v":-21.252549214714385},7.3649751243781099,{"$f":"(REAL_orig!$L$2-L22)/REAL_orig!$L$2*100","v":31.834338521368778}]
["05-20-204-004-0000","605 Lincoln Ave",null,80888,2332,7500,106,10.785066666666667,{"$f":"(F23-REAL_orig!$F$2)/REAL_orig!$F$2*100","v":-10.714285714285714},34.686106346483704,{"$f":"(REAL_orig!$J$2-J23)/REAL_orig!$J$2*100","v":-15.801254137206231},10.785066666666667,{"$f":"(REAL_orig!$L$2-L23)/REAL_orig!$L$2*100","v":0.1800832984420043}]
["05-17-416-020-0000","652 Lincoln Ave",null,59639,2421,7655,120,7.7908556499020252,{"$f":"(F24-REAL_orig!$F$2)/REAL_orig!$F$2*100","v":-8.8690476190476186},24.634035522511358,{"$f":"(REAL_orig!$J$2-J24)/REAL_orig!$J$2*100","v":17.758073521662642},7.7908556499020252,{"$f":"(REAL_orig!$L$2-L24)/REAL_orig!$L$2*100","v":27.892651381501345}]
["05-20-104-028-0000","1247 Elm St",null,94000,4161,13050,70,7.2030651340996172,{"$f":"(F25-REAL_orig!$F$2)/REAL_orig!$F$2*100","v":55.357142857142861},22.590723383801972,{"$f":"(REAL_orig!$J$2-J25)/REAL_orig!$J$2*100","v":24.579770540426214},7.2030651340996172,{"$f":"(REAL_orig!$L$2-L25)/REAL_orig!$L$2*100","v":33.332877403163593}]
["05-20-106-018-0000","1065 Elm St",null,69560,1639,8850,96,7.8598870056497177,{"$f":"(F26-REAL_orig!$F$2)/REAL_orig!$F$2*100","v":5.3571428571428568},42.4405125076266,{"$f":"(REAL_orig!$J$2-J26)/REAL_orig!$J$2*100","v":-41.689716496737041},7.8598870056497177,{"$f":"(REAL_orig!$L$2-L26)/REAL_orig!$L$2*100","v":27.253739783316483}]
[]
["05-21-310-025-0000","680 Elder Lane",null,84274,3038,7598,75,{"$f":"D28/F28","v":11.091603053435115},{"$f":"(F28-REAL_orig!$F$2)/REAL_orig!$F$2*100","v":-9.5476190476190474},{"$f":"D28/E28","v":27.739960500329165},{"$f":"(REAL_orig!$J$2-J28)/REAL_orig!$J$2*100","v":7.3887918244150672},{"$f":"D28/F28","v":11.091603053435115},{"$f":"(REAL_orig!$L$2-L28)/REAL_orig!$L$2*100","v":-2.6570281945998895}]
["05-20-102-003-0000","1094 Pine St",null,82734,2574,10980,95,{"$f":"D29/F29","v":7.5349726775956283},{"$f":"(F29-REAL_orig!$F$2)/REAL_orig!$F$2*100","v":30.714285714285715},{"$f":"D29/E29","v":32.142191142191145},{"$f":"(REAL_orig!$J$2-J29)/REAL_orig!$J$2*100","v":-7.3082694207002943},{"$f":"D29/F29","v":7.5349726775956283},{"$f":"(REAL_orig!$L$2-L29)/REAL_orig!$L$2*100","v":30.260946151520219}]
[]
["05-21-311-032-0000","187 Forest St",null,53447,1450,6600,105,{"$f":"D31/F31","v":8.0980303030303027},{"$f":"(F31-REAL_orig!$F$2)/REAL_orig!$F$2*100","v":-21.428571428571427},{"$f":"D31/E31","v":36.86},{"$f":"(REAL_orig!$J$2-J31)/REAL_orig!$J$2*100","v":-23.058903898278942},{"$f":"D31/F31","v":8.0980303030303027},{"$f":"(REAL_orig!$L$2-L31)/REAL_orig!$L$2*100","v":25.049632489197048}]
["05-17-118-065-0000","1233 Forest Glen Dr North",null,60960,1764,6576,71,{"$f":"D32/F32","v":9.2700729927007295},{"$f":"(F32-REAL_orig!$F$2)/REAL_orig!$F$2*100","v":-21.714285714285715},{"$f":"D32/E32","v":34.557823129251702},{"$f":"(REAL_orig!$J$2-J32)/REAL_orig!$J$2*100","v":-15.372974373204192},{"$f":"D32/F32","v":9.2700729927007295},{"$f":"(REAL_orig!$L$2-L32)/REAL_orig!$L$2*100","v":14.201929153698705}]
[]
["05-21-418-007-0000","159 Fuller Lane",null,90406,2528,7575,96,{"$f":"D34/F34","v":11.934785478547855},{"$f":"(F34-REAL_orig!$F$2)/REAL_orig!$F$2*100","v":-9.8214285714285712},{"$f":"D34/E34","v":35.761867088607595},{"$f":"(REAL_orig!$J$2-J34)/REAL_orig!$J$2*100","v":-19.392733729788027},{"$f":"D34/F34","v":11.934785478547855},{"$f":"(REAL_orig!$L$2-L34)/REAL_orig!$L$2*100","v":-10.461004010447548}]
[]
["05-18-212-018-0000","1495 Scott Ave",null,85671,3043,5450,70,{"$f":"D36/F36","v":15.719449541284403},{"$f":"(F36-REAL_orig!$F$2)/REAL_orig!$F$2*100","v":-35.119047619047613},{"$f":"D36/E36","v":28.15346697338153},{"$f":"(REAL_orig!$J$2-J36)/REAL_orig!$J$2*100","v":6.0082803396438438},{"$f":"D36/F36","v":15.719449541284403},{"$f":"(REAL_orig!$L$2-L36)/REAL_orig!$L$2*100","v":-45.489517339285776}]
[]
["05-28-201-014-0000","51 Warwick Rd",null,82568,3098,9000,111,{"$f":"D38/F38","v":9.1742222222222214},{"$f":"(F38-REAL_orig!$F$2)/REAL_orig!$F$2*100","v":7.1428571428571423},{"$f":"D38/E38","v":26.652033570045191},{"$f":"(REAL_orig!$J$2-J38)/REAL_orig!$J$2*100","v":11.020888828271962},{"$f":"D38/F38","v":9.1742222222222214},{"$f":"(REAL_orig!$L$2-L38)/REAL_orig!$L$2*100","v":15.089064692185087}]
[]
["05-20-305-008-0000","311 Rosewood Ave",null,66721,2546,9960,78,{"$f":"D40/F40","v":6.6988955823293175},{"$f":"(F40-REAL_orig!$F$2)/REAL_orig!$F$2*100","v":18.571428571428573},{"$f":"D40/E40","v":26.206205813040064},{"$f":"(REAL_orig!$J$2-J40)/REAL_orig!$J$2*100","v":12.509306492528044},{"$f":"D40/F40","v":6.6988955823293175},{"$f":"(REAL_orig!$L$2-L40)/REAL_orig!$L$2*100","v":37.999159422236858}]
["05-20-304-029-0000","312 Rosewood Ave",null,68205,2848,7367,66,9.2581783629700016,{"$f":"(F41-REAL_orig!$F$2)/REAL_orig!$F$2*100","v":-12.297619047619047},23.948384831460675,{"$f":"(REAL_orig!$J$2-J41)/REAL_orig!$J$2*100","v":20.047151722905031},9.2581783629700016,{"$f":"(REAL_orig!$L$2-L41)/REAL_orig!$L$2*100","v":14.31201850090569}]
["05-20-308-059-0000","303 Auburn Ave",null,138129,3737,16100,69,8.5794409937888201,{"$f":"(F42-REAL_orig!$F$2)/REAL_orig!$F$2*100","v":91.666666666666657},36.962536794219965,{"$f":"(REAL_orig!$J$2-J42)/REAL_orig!$J$2*100","v":-23.401227976031311},8.5794409937888201,{"$f":"(REAL_orig!$L$2-L42)/REAL_orig!$L$2*100","v":20.593992432814641}]
["05-18-219-015-0000","1305 Asbury Ave",null,85825,2784,7950,80,10.79559748427673,{"$f":"(F43-REAL_orig!$F$2)/REAL_orig!$F$2*100","v":-5.3571428571428568},30.827945402298852,{"$f":"(REAL_orig!$J$2-J43)/REAL_orig!$J$2*100","v":-2.9205960565079945},10.79559748427673,{"$f":"(REAL_orig!$L$2-L43)/REAL_orig!$L$2*100","v":8.2616553995757402E-2}]
["05-18-221-020-0000","1423 Edgewood Ln",null,80000,3551,8050,103,9.9378881987577632,{"$f":"(F44-REAL_orig!$F$2)/REAL_orig!$F$2*100","v":-4.1666666666666661},22.528865108420163,{"$f":"(REAL_orig!$J$2-J44)/REAL_orig!$J$2*100","v":24.786287403299877},9.9378881987577632,{"$f":"(REAL_orig!$L$2-L44)/REAL_orig!$L$2*100","v":8.0210440186372427}]
["05-20-107-008-0000","1016 Spruce St",null,84145,2904,8850,120,9.5079096045197744,{"$f":"(F45-REAL_orig!$F$2)/REAL_orig!$F$2*100","v":5.3571428571428568},28.975550964187327,{"$f":"(REAL_orig!$J$2-J45)/REAL_orig!$J$2*100","v":3.26371292724872},9.5079096045197744,{"$f":"(REAL_orig!$L$2-L45)/REAL_orig!$L$2*100","v":12.00066035174188}]
["05-21-310-016-0000","663 Garland Ave",null,87272,2556,7980,96,10.936340852130327,{"$f":"(F46-REAL_orig!$F$2)/REAL_orig!$F$2*100","v":-5},34.143974960876371,{"$f":"(REAL_orig!$J$2-J46)/REAL_orig!$J$2*100","v":-13.991322121967659},10.936340852130327,{"$f":"(REAL_orig!$L$2-L46)/REAL_orig!$L$2*100","v":-1.2200171421745136}]
["05-21-409-016-0000","435 Sunset Rd",null,91255,2634,9500,93,9.6057894736842098,{"$f":"(F47-REAL_orig!$F$2)/REAL_orig!$F$2*100","v":13.095238095238097},34.645026575550496,{"$f":"(REAL_orig!$J$2-J47)/REAL_orig!$J$2*100","v":-15.664107322680101},9.6057894736842098,{"$f":"(REAL_orig!$L$2-L47)/REAL_orig!$L$2*100","v":11.094744728897329}]
["05-21-318-010-0000","479 Sunset Rd",null,70592,2264,9570,99,7.3763845350052248,{"$f":"(F48-REAL_orig!$F$2)/REAL_orig!$F$2*100","v":13.928571428571429},31.180212014134277,{"$f":"(REAL_orig!$J$2-J48)/REAL_orig!$J$2*100","v":-4.0966552841918773},7.3763845350052248,{"$f":"(REAL_orig!$L$2-L48)/REAL_orig!$L$2*100","v":31.728740062535653}]
["05-21-414-003-0000","452 Sunset Rd",null,102522,3940,8950,96,11.454972067039106,{"$f":"(F49-REAL_orig!$F$2)/REAL_orig!$F$2*100","v":6.5476190476190483},26.020812182741118,{"$f":"(REAL_orig!$J$2-J49)/REAL_orig!$J$2*100","v":13.128252149997147},11.454972067039106,{"$f":"(REAL_orig!$L$2-L49)/REAL_orig!$L$2*100","v":-6.0201473843942077}]
[]
["05-20-113-019-0000","1091 Cherry St",null,64499,1350,8850,69,{"$f":"D51/F51","v":7.2880225988700564},{"$f":"(F51-REAL_orig!$F$2)/REAL_orig!$F$2*100","v":5.3571428571428568},{"$f":"D51/E51","v":47.77703703703704},{"$f":"(REAL_orig!$J$2-J51)/REAL_orig!$J$2*100","v":-59.505963355541368},{"$f":"D51/F51","v":7.2880225988700564},{"$f":"(REAL_orig!$L$2-L51)/REAL_orig!$L$2*100","v":32.546563575102496}]
["05-20-112-024-0000","1133 Cherry St",null,83210,2365,9350,85,{"$f":"D52/F52","v":8.8994652406417121},{"$f":"(F52-REAL_orig!$F$2)/REAL_orig!$F$2*100","v":11.30952380952381},{"$f":"D52/E52","v":35.183932346723047},{"$f":"(REAL_orig!$J$2-J52)/REAL_orig!$J$2*100","v":-17.463270467144316},{"$f":"D52/F52","v":8.8994652406417121},{"$f":"(REAL_orig!$L$2-L52)/REAL_orig!$L$2*100","v":17.632045636318143}]
["05-20-112-019-0000","1163 Cherry St",null,76535,2350,9350,91,{"$f":"D53/F53","v":8.1855614973262032},{"$f":"(F53-REAL_orig!$F$2)/REAL_orig!$F$2*100","v":11.30952380952381},{"$f":"D53/E53","v":32.568085106382981},{"$f":"(REAL_orig!$J$2-J53)/REAL_orig!$J$2*100","v":-8.7301371475136467},{"$f":"D53/F53","v":8.1855614973262032},{"$f":"(REAL_orig!$L$2-L53)/REAL_orig!$L$2*100","v":24.239497810066212}]
["05-20-111-020-0000","1229 Cherry St",null,92231,2870,9350,89,{"$f":"D54/F54","v":9.864278074866311},{"$f":"(F54-REAL_orig!$F$2)/REAL_orig!$F$2*100","v":11.30952380952381},{"$f":"D54/E54","v":32.13623693379791},{"$f":"(REAL_orig!$J$2-J54)/REAL_orig!$J$2*100","v":-7.2883910062007464},{"$f":"D54/F54","v":9.864278074866311},{"$f":"(REAL_orig!$L$2-L54)/REAL_orig!$L$2*100","v":8.7023338671224426}]
[]
["05-20-110-015-0000","1037 Oak St",null,85416,2762,8850,80,{"$f":"D56/F56","v":9.6515254237288133},{"$f":"(F56-REAL_orig!$F$2)/REAL_orig!$F$2*100","v":5.3571428571428568},{"$f":"D56/E56","v":30.925416364952934},{"$f":"(REAL_orig!$J$2-J56)/REAL_orig!$J$2*100","v":-3.2460076090343488},{"$f":"D56/F56","v":9.6515254237288133},{"$f":"(REAL_orig!$L$2-L56)/REAL_orig!$L$2*100","v":10.67144101972054}]
[]
["05-20-106-019-0000","550 Rosewood Ave",null,63230,1824,8850,96,{"$f":"D58/F58","v":7.144632768361582},{"$f":"(F58-REAL_orig!$F$2)/REAL_orig!$F$2*100","v":5.3571428571428568},{"$f":"D58/E58","v":34.665570175438596},{"$f":"(REAL_orig!$J$2-J58)/REAL_orig!$J$2*100","v":-15.732693130720103},{"$f":"D58/F58","v":7.144632768361582},{"$f":"(REAL_orig!$L$2-L58)/REAL_orig!$L$2*100","v":33.873691295271726}]
["05-20-224-015-0000","973 Willow Rd",null,58731,2714,9350,106,{"$f":"D59/F59","v":6.2813903743315507},{"$f":"(F59-REAL_orig!$F$2)/REAL_orig!$F$2*100","v":11.30952380952381},{"$f":"D59/E59","v":21.640014738393514},{"$f":"(REAL_orig!$J$2-J59)/REAL_orig!$J$2*100","v":27.753757622102349},{"$f":"D59/F59","v":6.2813903743315507},{"$f":"(REAL_orig!$L$2-L59)/REAL_orig!$L$2*100","v":41.863329795296252}]
["05-20-304-023-0000","317 Glendale Ave",null,59149,2513,9230,70,{"$f":"D60/F60","v":6.4083423618634887},{"$f":"(F60-REAL_orig!$F$2)/REAL_orig!$F$2*100","v":9.8809523809523814},{"$f":"D60/E60","v":23.537206526064466},{"$f":"(REAL_orig!$J$2-J60)/REAL_orig!$J$2*100","v":21.419890506649182},{"$f":"D60/F60","v":6.4083423618634887},{"$f":"(REAL_orig!$L$2-L60)/REAL_orig!$L$2*100","v":40.688340598455994}]
[]
["05-17-202-016-0000","955 Tower Manor Dr",null,84115,3192,8530,81,{"$f":"D62/F62","v":9.8610785463071515},{"$f":"(F62-REAL_orig!$F$2)/REAL_orig!$F$2*100","v":1.5476190476190477},{"$f":"D62/E62","v":26.351817042606516},{"$f":"(REAL_orig!$J$2-J62)/REAL_orig!$J$2*100","v":12.023176316029719},{"$f":"D62/F62","v":9.8610785463071515},{"$f":"(REAL_orig!$L$2-L62)/REAL_orig!$L$2*100","v":8.7319467275831624}]
["05-20-116-026-0000","1121 Ash St",null,76116,2162,12155,96,6.2621143562320034,{"$f":"(F63-REAL_orig!$F$2)/REAL_orig!$F$2*100","v":44.702380952380956},35.206290471785387,{"$f":"(REAL_orig!$J$2-J63)/REAL_orig!$J$2*100","v":-17.537914155787622},6.2621143562320034,{"$f":"(REAL_orig!$L$2-L63)/REAL_orig!$L$2*100","v":42.041736714836347}]
["05-20-119-030-0000","1240 Ash St",null,75000,2531,14025,89,5.3475935828877006,{"$f":"(F64-REAL_orig!$F$2)/REAL_orig!$F$2*100","v":66.964285714285708},29.632556301856972,{"$f":"(REAL_orig!$J$2-J64)/REAL_orig!$J$2*100","v":1.0702686323777177},5.3475935828877006,{"$f":"(REAL_orig!$L$2-L64)/REAL_orig!$L$2*100","v":50.505976226606265}]
["05-21-300-062-0000","233 Ridge Ave",null,87102,3038,8052,95,10.817436661698956,{"$f":"(F65-REAL_orig!$F$2)/REAL_orig!$F$2*100","v":-4.1428571428571423},28.670836076366029,{"$f":"(REAL_orig!$J$2-J65)/REAL_orig!$J$2*100","v":4.2810184100695547},10.817436661698956,{"$f":"(REAL_orig!$L$2-L65)/REAL_orig!$L$2*100","v":-0.11951338534479657}]
["05-28-200-022-0000","38 Abbottsford Rd",null,68273,2028,9000,106,7.5858888888888885,{"$f":"(F66-REAL_orig!$F$2)/REAL_orig!$F$2*100","v":7.1428571428571423},33.665187376725839,{"$f":"(REAL_orig!$J$2-J66)/REAL_orig!$J$2*100","v":-12.392866470701534},7.5858888888888885,{"$f":"(REAL_orig!$L$2-L66)/REAL_orig!$L$2*100","v":29.789697143318865}]
["05-17-413-046-0000","686 Foxdale Ave",null,63450,1399,7320,66,8.6680327868852451,{"$f":"(F67-REAL_orig!$F$2)/REAL_orig!$F$2*100","v":-12.857142857142856},45.353824160114364,{"$f":"(REAL_orig!$J$2-J67)/REAL_orig!$J$2*100","v":-51.415949233286909},8.6680327868852451,{"$f":"(REAL_orig!$L$2-L67)/REAL_orig!$L$2*100","v":19.774041506163577}]
["05-17-414-008-0000","719 Foxdale Ave",null,56426,2070,7000,96,8.0608571428571434,{"$f":"(F68-REAL_orig!$F$2)/REAL_orig!$F$2*100","v":-16.666666666666664},27.258937198067631,{"$f":"(REAL_orig!$J$2-J68)/REAL_orig!$J$2*100","v":8.9947115294024478},8.0608571428571434,{"$f":"(REAL_orig!$L$2-L68)/REAL_orig!$L$2*100","v":25.393684303312096}]
[]
["05-21-305-008-0000","475 Orchard Lane",null,92714,2648,8550,92,{"$f":"D70/F70","v":10.84374269005848},{"$f":"(F70-REAL_orig!$F$2)/REAL_orig!$F$2*100","v":1.7857142857142856},{"$f":"D70/E70","v":35.012839879154079},{"$f":"(REAL_orig!$J$2-J70)/REAL_orig!$J$2*100","v":-16.892069937456604},{"$f":"D70/F70","v":10.84374269005848},{"$f":"(REAL_orig!$L$2-L70)/REAL_orig!$L$2*100","v":-0.36298573843764276}]
[]
["05-17-202-030-0000","850 Lamson Dr",null,108312,5088,20080,65,{"$f":"D72/F72","v":5.39402390438247},{"$f":"(F72-REAL_orig!$F$2)/REAL_orig!$F$2*100","v":139.04761904761904},{"$f":"D72/E72","v":21.287735849056602},{"$f":"(REAL_orig!$J$2-J72)/REAL_orig!$J$2*100","v":28.929857838822464},{"$f":"D72/F72","v":5.39402390438247},{"$f":"(REAL_orig!$L$2-L72)/REAL_orig!$L$2*100","v":50.076245844098864}]

{"sheet":"REAL1","index":8,"n_rows":105,"n_cols":14,"rows_kept":105,"cut":false,"hidden":false,"merged":[]}
["PIN","Address","Distance from this property","Total Assessment","Bldg SqFt","Land SqFt","Age","$ Assessed Per Sq Ft of Land","% more land vs subject prop","$ Assessed Per Sq Ft of Bldg","% diff","$ Assessed Per Sq Ft of Land","% diff"]
["05-17-404-013-0000","874 Sheridan Rd",0,98650,3030,8400,63,{"$f":"D2/F2","v":11.744047619047619},"N/A",{"$f":"D2/E2","v":32.557755775577554},null,{"$f":"D2/F2","v":11.744047619047619}]
["05-21-201-033-0000","380 Sheridan Rd","1.2 miles",110478,3166,12375,41,{"$f":"D3/F3","v":8.9275151515151521},{"$f":"(F3-$F$2)/$F$2*100","v":47.321428571428569},34.895135818066962,{"$f":"($J$2-J3)/$J$2*100","v":-7.179180465020683},8.9275151515151521,{"$f":"($L$2-L3)/$L$2*100","v":23.982638344929267}]
["05-17-404-014-0000","870 Sheridan Rd",null,233490,5028,18600,19,12.553225806451612,121.42857142857142,46.437947494033416,-42.632519925921201,12.553225806451612,-6.8901133037947773]
["05-17-404-012-0000","878 Sheridan Rd",null,115483,3498,9350,28,12.351122994652407,11.30952380952381,33.014008004574045,-1.4013626496293623,12.351122994652407,-5.1692175925800523,"NO "]
["05-17-404-015-0000","860 Sheridan Rd","151 feet",106288,2973,9300,57,11.428817204301076,10.714285714285714,35.751093171880257,-9.8082233256940583,11.428817204301076,2.6841718032143516,"not really"]
["05-17-404-016-0000","856 Sheridan Rd",null,245933,5733,18500,30,13.293675675675676,120.23809523809523,42.897784754927613,-31.759034776919087,13.293675675675676,-13.195008287557711]
["05-17-404-032-0000","850 Sheridan Rd",null,103756,2982,14560,42,7.1260989010989011,73.333333333333329,34.794097920858484,-6.8688461228598232,7.1260989010989011,39.321610978985532]
["05-17-404-031-0000","840 Sheridan Rd",null,119853,3571,14560,41,8.2316620879120883,73.333333333333329,33.562867544105295,-3.0871653914232677,8.2316620879120883,29.907793676166705]
["05-17-404-030-0000","830 Sheridan Rd",null,205137,6301,27238,133,7.5312798296497538,224.26190476190476,32.556260910966515,4.591423995388211E-3,7.5312798296497538,35.871514881846998,"xxxxx"]
["05-16-106-002-0000","859 Sheridan Rd",null,103480,3783,14900,94,6.94496644295302,77.38095238095238,27.353951890034363,15.983300327618725,6.94496644295302,40.863945138565263,"xxxxx age though"]
["05-16-106-005-0000","849 Sheridan Rd",null,119371,3172,14900,89,8.0114765100671139,77.38095238095238,37.632723833543508,-15.587585621527463,8.0114765100671139,31.782663269575512,"xxxxx age though"]
["05-21-107-001-0000","568 Sheridan Rd",null,97463,2745,7321,62,13.312798797978418,-12.845238095238095,35.505646630236797,-9.0543429190243323,13.312798797978418,-13.357840753186739]
["05-21-113-005-0000","500 Sheridan Rd",null,108346,3396,9450,71,11.465185185185184,12.5,31.904004711425205,2.0079733648065057,11.465185185185184,2.3745001971053692]
["05-21-418-049-0000","130 Sheridan Rd",null,65318,2132,9939,51,6.5718885199718278,18.321428571428573,30.636960600375236,5.8996547195773195,6.5718885199718278,44.040685689038668]
["05-16-101-016-0000","720 Humboldt Ave",null,163700,8069,34757,121,4.709842621630175,313.77380952380952,20.287520138802826,37.687596532617775,4.709842621630175,59.895916855860641,"xxxxx age though"]
["05-17-404-005-0000","790 Tower Rd",null,79024,2222,7500,63,10.536533333333333,-10.714285714285714,35.564356435643568,-9.2346680182463459,10.536533333333333,10.281926001013685,"maybe"]
["05-17-404-024-0000","800 Tower Rd",null,81569,2637,7280,64,11.204532967032968,-13.333333333333334,30.932499051952977,4.9919187760592703,11.204532967032968,4.5939412842605849]
["05-17-404-029-0000","804 Tower Rd",null,85148,2800,7560,27,11.262962962962963,-10,30.41,6.5967562088190475,11.262962962962963,4.0964126823224634]
["05-17-404-028-0000","875 Bryant Ave",null,108687,3035,11880,67,9.1487373737373741,41.428571428571431,35.811202635914334,-9.9928474270861063,9.1487373737373741,22.09894177456265]
["05-17-403-006-0000","870 Bryant Ave",null,110781,3762,9075,101,12.207272727272727,8.0357142857142865,29.44736842105263,9.5534451943340315,12.207272727272727,-3.9443394922360984]
["05-17-403-005-0000","830 Tower Rd",null,76000,2512,7500,121,10.133333333333333,-10.714285714285714,30.254777070063696,7.0735179703061242,10.133333333333333,13.715154586923466]
["05-17-403-032-0000","840 Tower Rd",null,171157,3818,15067,12,11.35972655472224,79.36904761904762,44.828968046097437,-37.690596228763553,11.35972655472224,3.2724753576616132]
["05-17-403-002-0000","848 Tower Rd",null,120151,3818,15000,123,8.0100666666666669,78.571428571428569,31.469617600838134,3.3421780734520459,8.0100666666666669,31.79466801824632]
["05-17-402-025-0000","870 Prospect Ave",null,108459,2861,12975,56,8.3590751445086706,54.464285714285708,37.909472212513109,-16.43760851892015,8.3590751445086706,28.822877634188711]
["05-14-407-015-0000","808 Prospect Ave",null,99098,2766,7500,116,13.213066666666666,-10.714285714285714,35.82718727404194,-10.04194368002746,13.213066666666666,-12.50862645717182]
["05-17-402-024-0000","888 Tower Rd",null,210540,6212,18600,105,11.319354838709678,121.42857142857142,33.89246619446233,-4.0995160357028579,11.319354838709678,3.616238575609426]
["05-17-402-001-0000","896 Tower Rd",null,66359,2039,7860,91,8.4426208651399488,-6.4285714285714279,32.544874938695436,3.9563036748928915E-2,8.4426208651399488,28.111489845741943]
["05-17-402-002-0000","867 Lincoln Ave",null,62757,1716,7205,98,8.7102012491325471,-14.226190476190476,36.57167832167832,-12.328621707739808,8.7102012491325471,25.833055760047241]
["05-17-401-004-0000","874 Lincoln Ave",null,111027,3057,15075,111,7.3649751243781099,79.464285714285708,36.318940137389596,-11.55234527753724,7.3649751243781099,37.287591439659273]
["05-20-204-004-0000","605 Lincoln Ave",null,80888,2332,7500,106,10.785066666666667,-10.714285714285714,34.686106346483704,-6.5371538062297372,10.785066666666667,8.1656766345666423]
["05-17-416-020-0000","652 Lincoln Ave",null,59639,2421,7655,120,7.7908556499020252,-8.8690476190476186,24.634035522511358,24.337427639929629,7.7908556499020252,33.661239270981227]
["05-17-401-003-0000","922 Tower Rd",null,91103,2514,11250,96,8.0980444444444437,33.928571428571431,36.238265712012726,-11.304556621792775,8.0980444444444437,31.045541476600778]
["05-17-401-029-0000","932 Tower Rd",null,129777,4585,15750,102,8.239809523809523,87.5,28.304689203925847,13.063144158240927,8.239809523809523,29.838418651799291]
["05-18-224-029-0000","1507 Tower Rd",null,72372,2676,7500,72,9.6495999999999995,{"$f":"(F35-$F$2)/$F$2*100","v":-10.714285714285714},27.044843049327355,{"$f":"($J$2-J35)/$J$2*100","v":16.932717243322966},9.6495999999999995,{"$f":"($L$2-L35)/$L$2*100","v":17.834120628484541}]
["05-18-106-018-0000","1565 Tower Rd",null,72527,2627,23353,59,3.1056823534449536,178.01190476190476,27.608298439284354,15.202083861093154,3.1056823534449536,73.555264299100244]
["05-18-402-072-0000","1284 Trapp Lane",null,98621,3029,28084,60,3.5116436405070504,234.33333333333331,32.558930340046217,-3.6076333908241338E-3,3.5116436405070504,70.098523486812738]
["05-18-402-050-0000","1339 Trapp Lane",null,116418,4183,21000,64,5.5437142857142856,150,27.831221611283766,14.517383190887156,5.5437142857142856,52.795539787126202]
["05-20-104-028-0000","1247 Elm St",null,94000,4161,13050,70,7.2030651340996172,55.357142857142861,22.590723383801972,30.613388897192113,7.2030651340996172,38.666247210910505]
["05-20-106-018-0000","1065 Elm St",null,69560,1639,8850,96,7.8598870056497177,5.3571428571428568,42.4405125076266,-30.354539176998085,7.8598870056497177,33.073440600651161]
["05-21-418-033-0000","196 Sheridan Rd",null,98907,2882,16932,68,5.8414245216158749,101.57142857142858,34.318875780707842,-5.4092180593459407,5.8414245216158749,50.260551463179567]
["05-21-202-017-0000","359 Sheridan Rd",null,143612,3493,17600,53,8.1597727272727276,109.52380952380953,41.114228456913828,-26.280904434312124,8.1597727272727276,30.519928120536328]
["05-21-410-002-0000","398 Elder Lane",null,117566,3391,8500,28,13.831294117647058,1.1904761904761905,34.670008846947802,-6.487710903448404,13.831294117647058,-17.772803434602423]
["05-21-310-025-0000","680 Elder Lane",null,84274,3038,7598,75,11.091603053435115,-9.5476190476190474,27.739960500329165,14.797688478461858,11.091603053435115,5.5555340609680997]
["05-20-102-003-0000","1094 Pine St",null,82734,2574,10980,95,7.5349726775956283,30.714285714285715,32.142191142191145,1.2763921329557242,7.5349726775956283,35.840070459398596]
["05-20-100-002-0000","1258 Pine St",null,69565,2087,21778,65,3.1942786298099,159.26190476190476,33.332534738859607,-2.3797062937097011,3.1942786298099,72.800871271765686]
["05-18-106-032-0000","924 Pine Tree Lane",null,115724,3516,23465,51,4.9317707223524394,179.3452380952381,32.913538111490332,-1.0927729121294656,4.9317707223524394,58.00620976405424]
["05-18-107-014-0000","985 Pine Tree Lane",null,160363,4443,21814,19,{"$f":"D48/F48","v":7.3513798478041625},159.69047619047618,{"$f":"D48/E48","v":36.093405356740938},-10.859623143360418,{"$f":"D48/F48","v":7.3513798478041625},37.403354565073528]
["05-21-311-032-0000","187 Forest St",null,53447,1450,6600,105,{"$f":"D49/F49","v":8.0980303030303027},-21.428571428571427,{"$f":"D49/E49","v":36.86},-13.214191586416636,{"$f":"D49/F49","v":8.0980303030303027},31.045661890061282]
["05-17-118-065-0000","1233 Forest Glen Dr North",null,60960,1764,6576,71,9.2700729927007295,-21.714285714285715,34.557823129251702,-6.1431364233478636,9.2700729927007295,21.065774821402808]
["05-18-400-008-0000","804 Boal Parkway",null,87957,2619,19800,65,4.4422727272727274,135.71428571428572,33.584192439862541,-3.1526640575605773,4.4422727272727274,62.17426162281712]
["05-21-418-051-0000","127 Fuller Lane",null,83000,3432,8910,35,9.3153759820426494,6.0714285714285712,24.184149184149184,25.719237680717651,9.3153759820426494,20.680022048496443]
["05-21-418-007-0000","159 Fuller Lane",null,90406,2528,7575,96,11.934785478547855,-9.8214285714285712,35.761867088607595,-9.8413150314049904,11.934785478547855,-1.6241236896117468]
["05-18-402-060-0000","860 Hibbard Rd",null,116466,4246,19500,63,5.9726153846153842,132.14285714285714,27.429580781912389,15.751008850284293,5.9726153846153842,49.143467581582129]
["05-20-300-037-0000","355 Hibbard Rd",null,57813,2899,12934,56,4.4698469151074685,53.976190476190474,19.942393928941016,38.747639528949534,4.4698469151074685,61.939468741102147]
["05-20-300-061-0000","277 Hibbard Rd",null,69023,3338,14904,54,4.6311728395061724,77.428571428571431,20.677950868783704,36.488402298616698,4.6311728395061724,60.565786262694523]
["05-17-110-012-0000","1025 Hubbard PL",null,96603,3323,10320,54,9.3607558139534888,22.857142857142858,29.071020162503761,10.709385613394423,9.3607558139534888,20.293614964815703]
["05-18-218-009-0000","1346 Scott Ave",null,97724,3252,7950,25,12.292327044025157,-5.3571428571428568,30.050430504305044,7.7011612488147048,12.292327044025157,-4.6685729040155328]
["05-18-212-018-0000","1495 Scott Ave",null,85671,3043,5450,70,15.719449541284403,-35.119047619047613,28.15346697338153,13.527617912472332,15.719449541284403,-33.85035595214292]
["05-21-109-022-0000","520 Maple St",null,126516,3580,13221,28,9.5693215339233042,57.392857142857146,35.339664804469272,-8.5445355879796328,9.5693215339233042,18.517687901717427]
["05-28-201-014-0000","51 Warwick Rd",null,82568,3098,9000,111,9.1742222222222214,7.1428571428571423,26.652033570045191,18.139217722010201,9.1742222222222214,21.881939516810274]
["05-29-102-068-0000","65 Woodley Rd",null,175125,5200,52141,64,3.3586812680999598,520.72619047619048,33.677884615384613,-3.4404362743186909,3.3586812680999598,71.400990722717026]
["05-20-305-008-0000","311 Rosewood Ave",null,66721,2546,9960,78,6.6988955823293175,18.571428571428573,26.206205813040064,19.508561973125797,6.6988955823293175,42.959226668457909]
["05-20-304-029-0000","312 Rosewood Ave",null,68205,2848,7367,66,9.2581783629700016,-12.297619047619047,23.948384831460675,26.443379585072631,9.2581783629700016,21.167057020833234]
["05-18-219-021-0000","1275 Asbury Ave",null,94805,3041,7950,28,11.925157232704402,-5.3571428571428568,31.175600131535678,4.2452423734889884,11.925157232704402,-1.5421396398550229]
["05-18-217-016-0000","1437 Asbury Ave",null,69233,2860,7950,19,8.7085534591194964,-5.3571428571428568,24.207342657342657,25.647999744806633,8.7085534591194964,25.847086612667237]
["05-18-219-015-0000","1305 Asbury Ave",null,85825,2784,7950,80,10.79559748427673,-5.3571428571428568,30.827945402298852,5.3130516280126407,10.79559748427673,8.0760072296760939]
["05-20-225-030-0000","368 Birch St",null,92500,3502,9350,25,9.8930481283422456,{"$f":"(F68-$F$2)/$F$2*100","v":11.30952380952381},26.413478012564248,{"$f":"($J$2-J68)/$J$2*100","v":18.871932713563428},9.8930481283422456,{"$f":"($L$2-L68)/$L$2*100","v":15.761171537683866}]
["05-18-221-020-0000","1423 Edgewood Ln",null,80000,3551,8050,103,9.9378881987577632,-4.1666666666666661,22.528865108420163,30.803384411035882,9.9378881987577632,15.37936049714626]
["05-29-101-052-0000","996 Hill Rd",null,116152,3650,23344,61,4.975668265935572,177.9047619047619,31.822465753424659,2.2584174020509615,4.975668265935572,57.632424294111708]
["05-21-311-033-0000","695 Hill Rd",null,122816,3267,8646,15,14.204950266018969,2.9285714285714288,37.592898683807775,-15.465264076976757,14.204950266018969,-20.954467546436231]
["05-18-216-024-0000","980 Greenwood Ave",null,81812,2578,6910,13,11.839652677279306,-17.738095238095237,31.734678044996119,2.5280542561193595,11.839652677279306,-0.81407246745683792]
["05-17-300-056-0000","1160 Chatfield Rd",null,100454,3225,9630,55,10.431360332294911,14.642857142857144,31.148527131782945,4.3283961385683387,10.431360332294911,11.177469040773181]
["05-20-311-025-0000","1088 Mt Pleasant Rd",null,109296,2898,18339,57,5.9597578930148867,118.32142857142858,37.714285714285715,-15.838100065165465,5.9597578930148867,49.252948503471821]
["05-17-200-055-0000","889 Private Rd",null,83908,3149,21488,61,3.9048771407297096,155.80952380952382,26.645919339472847,18.157997365836049,3.9048771407297096,66.75015916661981]
["05-21-310-016-0000","663 Garland Ave",null,87272,2556,7980,96,10.936340852130327,-5,34.143974960876371,-4.8720163522102515,10.936340852130327,6.8775842291994449]
["05-21-409-016-0000","435 Sunset Rd",null,91255,2634,9500,93,9.6057894736842098,13.095238095238097,34.645026575550496,-6.4109787368656992,9.6057894736842098,18.207165150585539]
["05-21-318-010-0000","479 Sunset Rd",null,70592,2264,9570,99,7.3763845350052248,13.928571428571429,31.180212014134277,4.2310771385434682,7.3763845350052248,37.190440857532806]
["05-20-107-008-0000","1016 Spruce St",null,84145,2904,8850,120,9.5079096045197744,5.3571428571428568,28.975550964187327,11.002615893068818,9.5079096045197744,19.040607523602525]
["05-18-403-046-0000","1332 Sunview Lane",null,87717,2003,21755,72,4.032038611813376,158.98809523809524,43.792810783824265,-34.508075696895631,4.032038611813376,65.667385363170439]
["05-20-308-057-0000","315 Auburn Ave",null,82601,3246,13900,57,5.9425179856115111,65.476190476190482,25.447011706715958,21.840399927674241,5.9425179856115111,49.399745484909587]
["05-20-308-059-0000","303 Auburn Ave",null,138129,3737,16100,69,8.5794409937888201,91.666666666666657,36.962536794219965,-13.529129737948814,8.5794409937888201,26.946473038189467]
["05-20-113-019-0000","1091 Cherry St",null,64499,1350,8850,69,{"$f":"D83/F83","v":7.2880225988700564},5.3571428571428568,{"$f":"D83/E83","v":47.77703703703704},-46.745486287098068,{"$f":"D83/F83","v":7.2880225988700564},37.942838489094299]
["05-20-112-024-0000","1133 Cherry St",null,83210,2365,9350,85,8.8994652406417121,11.30952380952381,35.183932346723047,-8.0662088297727763,8.8994652406417121,24.221481985412687]
["05-20-112-019-0000","1163 Cherry St",null,76535,2350,9350,91,8.1855614973262032,11.30952380952381,32.568085106382981,-3.172617571256095E-2,8.1855614973262032,30.30033798526091]
["05-20-111-020-0000","1229 Cherry St",null,92231,2870,9350,89,9.864278074866311,11.30952380952381,32.13623693379791,1.2946802742953083,9.864278074866311,16.006147157752647]
["05-20-110-015-0000","1037 Oak St",null,85416,2762,8850,80,9.6515254237288133,5.3571428571428568,30.925416364952934,5.013672999688394,9.6515254237288133,17.817725738142894]
["05-21-307-016-0000","566 Orchard Lane",null,105919,3242,7631,51,13.880094351985322,-9.1547619047619051,32.670882171499073,-0.34746374013401166,13.880094351985322,-18.188335080260227]
["05-21-305-008-0000","475 Orchard Lane",null,92714,2648,8550,92,10.84374269005848,1.7857142857142856,35.012839879154079,-7.5407043424600806,10.84374269005848,7.6660531206373657]
["05-20-120-028-0000","371 Berkeley Ave",null,78658,3067,10479,63,7.5062505964309567,24.75,25.646560156504727,21.227493893350907,7.5062505964309567,36.084637597546845]
["05-17-202-030-0000","850 Lamson Dr",null,108312,5088,20080,65,5.39402390438247,139.04761904761904,21.287735849056602,34.615469211716665,5.39402390438247,54.070146176570958]
["05-20-308-054-0000","320 Euclid Ave",null,93977,3773,14800,55,6.3497972972972976,76.19047619047619,24.907765703684071,23.496675030752417,6.3497972972972976,45.931781756414289]
["05-20-106-019-0000","550 Rosewood Ave",null,63230,1824,8850,96,7.144632768361582,5.3571428571428568,34.665570175438596,-6.4740776802624991,7.144632768361582,39.163795991649984]
["05-20-224-015-0000","973 Willow Rd",null,58731,2714,9350,106,6.2813903743315507,11.30952380952381,21.640014738393514,33.533457012334154,6.2813903743315507,46.514263411672552]
["05-20-304-023-0000","317 Glendale Ave",null,59149,2513,9230,70,6.4083423618634887,9.8809523809523814,23.537206526064466,27.706299266117245,6.4083423618634887,45.433273350579519]
["05-18-216-001-0000","995 Grove St",null,62280,2693,7950,62,7.8339622641509434,-5.3571428571428568,23.12662458225028,28.967387243569835,7.8339622641509434,33.294188526236262]
["05-17-202-016-0000","955 Tower Manor Dr",null,84115,3192,8530,81,9.8610785463071515,1.5476190476190477,26.351817042606516,19.061322210747335,9.8610785463071515,16.033390989376507]
["05-20-116-026-0000","1121 Ash St",null,76116,2162,12155,96,6.2621143562320034,44.702380952380956,35.206290471785387,-8.1348810233246152,6.2621143562320034,46.678397777649437]
["05-20-119-030-0000","1240 Ash St",null,75000,2531,14025,89,5.3475935828877006,66.964285714285708,29.632556301856972,8.9846471417874962,5.3475935828877006,54.465498128477762]
["05-21-300-062-0000","233 Ridge Ave",null,87102,3038,8052,95,10.817436661698956,{"$f":"(F100-$F$2)/$F$2*100","v":-4.1428571428571423},28.670836076366029,{"$f":"($J$2-J100)/$J$2*100","v":11.938536937263985},10.817436661698956,{"$f":"($L$2-L100)/$L$2*100","v":7.8900476854827843}]
["05-28-200-022-0000","38 Abbottsford Rd",null,68273,2028,9000,106,7.5858888888888885,7.1428571428571423,33.665187376725839,-3.4014371530454168,7.5858888888888885,35.406521371853358]
["05-17-413-046-0000","686 Foxdale Ave",null,63450,1399,7320,66,8.6680327868852451,-12.857142857142856,45.353824160114364,-39.302673294623958,8.6680327868852451,26.192118185670488]
["05-17-414-008-0000","719 Foxdale Ave",null,56426,2070,7000,96,8.0608571428571434,-16.666666666666664,27.258937198067631,16.275134607050248,8.0608571428571434,31.362189559047128]
["05-21-418-017-0000","200 Sheridan Rd",null,88379,2754,9120,71,9.6906798245614034,8.5714285714285712,32.091140159767612,1.4331934271709339,9.6906798245614034,17.48432790033878]
["05-21-403-005-0000","331 Sheridan Rd",null,134601,3818,12946,70,10.397111076780472,54.11904761904762,35.254321634363542,-8.2824070472595483,10.397111076780472,11.469099802376107]

{"sheet":"Sheet9","index":9,"n_rows":34,"n_cols":14,"rows_kept":34,"cut":false,"hidden":false,"merged":[]}
["PIN","Address","Distance from this property","Total Assessment","Bldg SqFt","Land SqFt","Age","$ Assessed Per Sq Ft of Land","% more land vs subject prop","$ Assessed Per Sq Ft of Bldg","% diff","$ Assessed Per Sq Ft of Land","% diff"]
["05-21-201-033-0000","380 Sheridan Rd","1.2 miles",110478,3166,12375,41,{"$f":"D2/F2","v":8.9275151515151521},{"$f":"(F2-$F$2)/$F$2*100","v":0},{"$f":"D2/E2","v":34.895135818066962},{"$f":"($J$2-J2)/$J$2*100","v":0},{"$f":"D2/F2","v":8.9275151515151521},{"$f":"($L$2-L2)/$L$2*100","v":0}]
["05-17-404-015-0000","860 Sheridan Rd","151 feet",106288,2973,9300,57,11.428817204301076,-24.848484848484848,35.751093171880257,-2.4529417460244507,11.428817204301076,-28.017897593390366,"not really"]
["05-17-404-032-0000","850 Sheridan Rd",null,103756,2982,14560,42,7.1260989010989011,17.656565656565657,34.794097920858484,0.2895472243904138,7.1260989010989011,20.17824915268298]
["05-17-404-031-0000","840 Sheridan Rd",null,119853,3571,14560,41,8.2316620879120883,17.656565656565657,33.562867544105295,3.8179197264275571,8.2316620879120883,7.7944764225347258]
["05-21-418-049-0000","130 Sheridan Rd",null,65318,2132,9939,51,6.5718885199718278,-19.684848484848487,30.636960600375236,12.202775882267966,6.5718885199718278,26.386139833585542]
["05-17-404-005-0000","790 Tower Rd",null,79024,2222,7500,63,10.536533333333333,-39.393939393939391,35.564356435643568,-1.9178048799286145,10.536533333333333,-18.023135827947634,"maybe"]
["05-17-404-024-0000","800 Tower Rd",null,81569,2637,7280,64,11.204532967032968,-41.171717171717169,30.932499051952977,11.355842793603138,11.204532967032968,-25.505616925571577]
["05-17-404-029-0000","804 Tower Rd",null,85148,2800,7560,27,11.262962962962963,-38.909090909090907,30.41,12.853183439236771,11.262962962962963,-26.160110308538037]
["05-17-403-032-0000","840 Tower Rd",null,171157,3818,15067,12,11.35972655472224,21.753535353535352,44.828968046097437,-28.467670336125277,11.35972655472224,-27.24399076258414]
["05-17-402-025-0000","870 Prospect Ave",null,108459,2861,12975,56,8.3590751445086706,4.8484848484848486,37.909472212513109,-8.6382709904383699,8.3590751445086706,6.3672813471507519]
["05-18-106-018-0000","1565 Tower Rd",null,72527,2627,23353,59,3.1056823534449536,88.711111111111109,27.608298439284354,20.882100636530112,3.1056823534449536,65.212242144244755]
["05-18-402-072-0000","1284 Trapp Lane",null,98621,3029,28084,60,3.5116436405070504,126.94141414141413,32.558930340046217,6.6949316093825706,3.5116436405070504,60.664937769261982]
["05-18-402-050-0000","1339 Trapp Lane",null,116418,4183,21000,64,5.5437142857142856,69.696969696969703,27.831221611283766,20.243263254834083,5.5437142857142856,37.903053743085245]
["05-21-202-017-0000","359 Sheridan Rd",null,143612,3493,17600,53,8.1597727272727276,42.222222222222221,41.114228456913828,-17.822233652482105,8.1597727272727276,8.599732525932767]
["05-18-106-032-0000","924 Pine Tree Lane",null,115724,3516,23465,51,4.9317707223524394,89.616161616161619,32.913538111490332,5.6787218622907796,4.9317707223524394,44.757632570184619]
["05-18-107-014-0000","985 Pine Tree Lane",null,160363,4443,21814,19,{"$f":"D17/F17","v":7.3513798478041625},76.274747474747471,{"$f":"D17/E17","v":36.093405356740938},-3.4339156750138571,{"$f":"D17/F17","v":7.3513798478041625},17.654804018377863]
["05-21-418-051-0000","127 Fuller Lane",null,83000,3432,8910,35,{"$f":"D18/F18","v":9.3153759820426494},-28.000000000000004,{"$f":"D18/E18","v":24.184149184149184},30.694784195028586,{"$f":"D18/F18","v":9.3153759820426494},-4.3445552759624348]
["05-18-402-060-0000","860 Hibbard Rd",null,116466,4246,19500,63,5.9726153846153842,57.575757575757578,27.429580781912389,21.394256996384236,5.9726153846153842,33.098793076797755]
["05-20-300-037-0000","355 Hibbard Rd",null,57813,2899,12934,56,4.4698469151074685,4.5171717171717169,19.942393928941016,42.850504915886191,4.4698469151074685,49.931791329988847]
["05-20-300-061-0000","277 Hibbard Rd",null,69023,3338,14904,54,4.6311728395061724,20.436363636363637,20.677950868783704,40.742598118567315,4.6311728395061724,48.124727195560311]
["05-21-109-022-0000","520 Maple St",null,126516,3580,13221,28,9.5693215339233042,6.836363636363636,35.339664804469272,-1.2738995736252616,9.5693215339233042,-7.189081973153824]
["05-29-102-068-0000","65 Woodley Rd",null,175125,5200,52141,64,3.3586812680999598,321.34141414141413,33.677884615384613,3.4883119785770154,3.3586812680999598,62.378319038417608]
["05-29-301-001-0000","130 Woodley Rd",null,198316,4249,49789,23,3.9831288035509851,302.33535353535353,46.673570251823961,-33.753800229253478,3.9831288035509851,55.383679154271945]
["05-18-217-016-0000","1437 Asbury Ave",null,69233,2860,7950,19,8.7085534591194964,-35.757575757575758,24.207342657342657,30.62831798806382,8.7085534591194964,2.4526611120732076]
["05-20-225-030-0000","368 Birch St",null,92500,3502,9350,25,9.8930481283422456,-24.444444444444443,26.413478012564248,24.306132091657698,9.8930481283422456,-10.815248817172]
["05-29-101-052-0000","996 Hill Rd",null,116152,3650,23344,61,4.975668265935572,88.638383838383845,31.822465753424659,8.8054394763278943,4.975668265935572,44.265921911192549]
["05-17-300-056-0000","1160 Chatfield Rd",null,100454,3225,9630,55,10.431360332294911,-22.181818181818183,31.148527131782945,10.736764876966634,10.431360332294911,-16.845058846240445]
["05-20-311-025-0000","1088 Mt Pleasant Rd",null,109296,2898,18339,57,5.9597578930148867,48.193939393939395,37.714285714285715,-8.0789193970098783,5.9597578930148867,33.242814020837436]
["05-17-200-055-0000","889 Private Rd",null,83908,3149,21488,61,3.9048771407297096,73.640404040404036,26.645919339472847,23.640018258140959,3.9048771407297096,56.26020147311668]
["05-20-308-057-0000","315 Auburn Ave",null,82601,3246,13900,57,5.9425179856115111,12.323232323232324,25.447011706715958,27.075762537824072,5.9425179856115111,33.435923829230759]
["05-20-120-028-0000","371 Berkeley Ave",null,78658,3067,10479,63,7.5062505964309567,-15.321212121212122,25.646560156504727,26.503910773643653,7.5062505964309567,15.920046406675462]
["05-20-308-054-0000","320 Euclid Ave",null,93977,3773,14800,55,6.3497972972972976,19.595959595959599,24.907765703684071,28.621095405543397,6.3497972972972976,28.873855831881411]
["05-18-216-001-0000","995 Grove St",null,62280,2693,7950,62,7.8339622641509434,-35.757575757575758,23.12662458225028,33.725363033903236,7.8339622641509434,12.249241460862869]

{"sheet":"Sheet8_old1","index":10,"n_rows":24,"n_cols":13,"rows_kept":24,"cut":false,"hidden":false,"merged":[]}
["PIN","Address","Distance from this property","Total Assessment","Bldg SqFt","Land SqFt","Age","$ Assessed Per Sq Ft of Land","% more land vs subject prop","$ Assessed Per Sq Ft of Bldg","% diff","$ Assessed Per Sq Ft of Land","% diff"]
["05-21-418-049-0000","130 Sheridan Rd",null,52785,2132,9939,51,{"$f":"D2/F2","v":5.3108964684575914},{"$f":"(F2-$F$2)/$F$2*100","v":0},{"$f":"D2/E2","v":24.75844277673546},{"$f":"($J$2-J2)/$J$2*100","v":0},{"$f":"D2/F2","v":5.3108964684575914},{"$f":"($L$2-L2)/$L$2*100","v":0}]
["05-17-404-013-0000","874 Sheridan Rd",0,80409,3030,8400,63,9.57,"N/A",26.54,null,{"$f":"D3/F3","v":9.5724999999999998}]
["05-18-217-016-0000","1437 Asbury Ave",null,63694,2860,7950,19,{"$f":"D4/F4","v":8.0118238993710698},{"$f":"(F4-$F$2)/$F$2*100","v":-20.01207364926049},{"$f":"D4/E4","v":22.270629370629372},{"$f":"($J$2-J4)/$J$2*100","v":10.04834362379119},{"$f":"D4/F4","v":8.0118238993710698},{"$f":"($L$2-L4)/$L$2*100","v":-50.856337474375415}]
["05-20-308-057-0000","315 Auburn Ave",null,61655,3246,13900,57,4.4356115107913672,39.853103933997389,18.994146642020947,23.282143334680956,4.4356115107913672,16.480926767537373]
["05-20-308-051-0000","345 Auburn Ave",null,49703,2565,10495,58,4.7358742258218198,5.5941241573598957,19.37738791423002,21.734221780546743,4.7358742258218198,10.827216196944082]
["05-20-120-028-0000","371 Berkeley Ave",null,67817,3067,10479,63,6.4717053153926898,5.4331421672200424,22.111835670035866,10.689715546999214,6.4717053153926898,-21.857116850787044]
["05-20-225-030-0000","368 Birch St",null,85100,3502,9350,25,9.1016042780748663,-5.9261495120233425,24.30039977155911,1.8500477162754154,9.1016042780748663,-71.376044178812336]
["05-20-308-054-0000","320 Euclid Ave",null,81526,3773,14800,55,5.5085135135135133,48.908340879364118,21.607739199575935,12.725774417929541,5.5085135135135133,-3.7209734030705821]
["05-21-418-051-0000","127 Fuller Lane",null,76360,3432,8910,35,8.5701459034792364,-10.353154240869303,22.249417249417249,10.134019937941511,8.5701459034792364,-61.369101325528334]
["05-18-216-001-0000","995 Grove St",null,56052,2693,7950,62,7.050566037735849,-20.01207364926049,20.813962124025252,15.931860853610235,7.050566037735849,-32.756608599141046]
["05-18-402-060-0000","860 Hibbard Rd",null,100501,4246,19500,63,5.1538974358974361,96.19680048294596,23.669571361281207,4.3979802173884019,5.1538974358974361,2.9561682004648744]
["05-20-300-037-0000","355 Hibbard Rd",null,53188,2899,12934,56,4.112262254522963,30.133816279303755,18.347016212487066,25.895920119309608,4.112262254522963,22.569338736944722]
["05-20-300-061-0000","277 Hibbard Rd",null,63501,3338,14904,54,4.2606682769726252,49.954723815273169,19.023666866387057,23.162910373899397,4.2606682769726252,19.774970152825762]
["05-20-300-044-0000","319 Hibbard Rd",null,87440,3862,17125,67,5.1059854014598542,72.301036321561526,22.641118591403419,8.5519279399979382,5.1059854014598542,3.8583140947059009]
["05-20-410-003-0000","201 Linden St",null,82500,4217,18700,48,4.4117647058823533,88.147700975953313,19.56367085605881,20.981820090712549,4.4117647058823533,16.929943332831851]
["05-20-315-009-0000","1210 Lindenwood Dr",null,79120,3841,21645,64,3.6553476553476552,117.77844853607003,20.598802395209582,16.800896643768446,3.6553476553476552,31.17268097660255]
["05-17-117-007-0000","960 Old Green Bay Rd",null,64978,2941,13352,60,4.8665368484122231,34.339470771707411,22.093845630737846,10.762377787755828,4.8665368484122231,8.3669418653612126]
["05-17-200-055-0000","889 Private Rd",null,65309,3149,21488,61,3.0393242740134028,116.19881275782271,20.739599872975546,16.232211936755021,3.0393242740134028,42.771916340969575]
["05-20-100-010-0000","1225 Spruce St",null,94309,3883,21776,65,4.3308688464364442,119.09648858034008,24.287664177182592,1.901487116125256,4.3308688464364442,18.453148688582331]
["05-20-308-069-0000","1220 Sunset Rd",null,74841,3276,12693,49,5.8962420231623733,27.709025052822216,22.845238095238095,7.7274839082170752,5.8962420231623733,-11.021596037152273]
["05-18-106-019-0000","1555 Tower Rd",null,58880,2581,23353,59,2.5213034727872223,134.96327598349936,22.812863231305695,7.8582468331083843,2.5213034727872223,52.525840265165854]
["05-18-106-018-0000","1565 Tower Rd",null,66724,2627,23353,59,2.8571917954866612,134.96327598349936,25.399314807765514,-2.5884989488606105,2.8571917954866612,46.2013275450565]
["05-18-402-050-0000","1339 Trapp Lane",null,107104,4183,21000,64,5.1001904761904759,111.28886205855719,25.604590007171886,-3.4176108653792925,5.1001904761904759,3.9674279760213338]

{"sheet":"Sheet4","index":11,"n_rows":25,"n_cols":13,"rows_kept":25,"cut":false,"hidden":false,"merged":[]}
["PIN","Address","Distance from this property","Total Assessment","Bldg SqFt","Land SqFt","Age","$ Assessed Per Sq Ft of Land","% more land vs subject prop","$ Assessed Per Sq Ft of Bldg","% diff","$ Assessed Per Sq Ft of Land","% diff"]
["05-17-404-013-0000","874 Sheridan Rd",0,98650,3030,8400,63,11.744047619047619,"N/A",32.557755775577554,null,11.744047619047619]
["05-21-418-049-0000","130 Sheridan Rd","1.8 miles",65318,2132,9939,51,6.5718885199718278,18.321428571428573,30.636960600375236,5.8996547195773195,6.5718885199718278,44.040685689038668]
["05-18-106-018-0000","1565 Tower Rd","1.8 miles",72527,2627,23353,59,3.1056823534449536,178.01190476190476,27.608298439284354,15.202083861093154,3.1056823534449536,73.555264299100244]
["05-21-418-051-0000","127 Fuller Lane","1.8 miles",83000,3432,8910,35,9.3153759820426494,6.0714285714285712,24.184149184149184,25.719237680717651,9.3153759820426494,20.680022048496443]
["05-18-402-060-0000","860 Hibbard Rd","1.2 miles",116466,4246,19500,63,5.9726153846153842,132.14285714285714,27.429580781912389,15.751008850284293,5.9726153846153842,49.143467581582129]
["05-20-300-037-0000","355 Hibbard Rd","2.2 miles",57813,2899,12934,56,4.4698469151074685,53.976190476190474,19.942393928941016,38.747639528949534,4.4698469151074685,61.939468741102147]
["05-20-300-061-0000","277 Hibbard Rd","2.3 miles",69023,3338,14904,54,4.6311728395061724,77.428571428571431,20.677950868783704,36.488402298616698,4.6311728395061724,60.565786262694523]
["05-18-217-016-0000","1437 Asbury Ave","1.8 miles",69233,2860,7950,19,8.7085534591194964,-5.3571428571428568,24.207342657342657,25.647999744806633,8.7085534591194964,25.847086612667237]
["05-20-225-030-0000","368 Birch St","1.4 miles",92500,3502,9350,25,9.8930481283422456,11.30952380952381,26.413478012564248,18.871932713563428,9.8930481283422456,15.761171537683866]
["05-17-300-056-0000","1160 Chatfield Rd","1.1 miles",100454,3225,9630,55,10.431360332294911,14.642857142857144,31.148527131782945,4.3283961385683387,10.431360332294911,11.177469040773181]
["05-17-200-055-0000","889 Private Rd","0.3 mile",83908,3149,21488,61,3.9048771407297096,155.80952380952382,26.645919339472847,18.157997365836049,3.9048771407297096,66.75015916661981]
["05-20-308-069-0000","1220 Sunset Rd","2.3 miles",81349,3276,12693,49,6.4089655715748837,51.107142857142861,24.831807081807082,23.729979262163745,6.4089655715748837,45.427966749894551]
["05-20-308-057-0000","315 Auburn Ave","2.2 miles",82601,3246,13900,57,5.9425179856115111,65.476190476190482,25.447011706715958,21.840399927674241,5.9425179856115111,49.399745484909587]
["05-20-120-028-0000","371 Berkeley Ave","2 miles",78658,3067,10479,63,7.5062505964309567,24.75,25.646560156504727,21.227493893350907,7.5062505964309567,36.084637597546845]
["05-20-308-054-0000","320 Euclid Ave","2.1 miles",93977,3773,14800,55,6.3497972972972976,76.19047619047619,24.907765703684071,23.496675030752417,6.3497972972972976,45.931781756414289]
["05-18-216-001-0000","995 Grove St","1.9 miles",62280,2693,7950,62,7.8339622641509434,-5.3571428571428568,23.12662458225028,28.967387243569835,7.8339622641509434,33.294188526236262]
[]
[]
[]
[]
[]
["05-18-402-072-0000","1284 Trapp Lane",null,98621,3029,28084,60,3.5116436405070504,234.33333333333331,32.558930340046217,-3.6076333908241338E-3,3.5116436405070504,70.098523486812738]
[]
["05-17-404-029-0000","804 Tower Rd",null,85148,2800,7560,27,11.262962962962963,-10,30.41,6.5967562088190475,11.262962962962963,4.0964126823224634]

{"sheet":"Sheet8","index":12,"n_rows":28,"n_cols":30,"rows_kept":28,"cut":false,"hidden":false,"merged":[]}
["PIN","Address","Distance from this property","Total Assessment","Bldg SqFt","Land SqFt","Age","$ Assessed Per Sq Ft of Land","% more land vs subject prop","$ Assessed Per Sq Ft of Bldg","% diff","$ Assessed Per Sq Ft of Land","% diff","%diffAbs",null,null,"PIN","Address","Total Assessment","Bldg SqFt","Land SqFt","Age","$ Assessed Per Sq Ft of Land","%diffAbs","% more land vs subject prop","$ Assessed Per Sq Ft of Bldg","% diff","$ Assessed Per Sq Ft of Land","% diff","%diffAbs"]
["05-17-404-013-0000","874 Sheridan Rd",0,80409,3030,8398,63,{"$f":"D2/F2","v":9.5747797094546314},"N/A",{"$f":"D2/E2","v":26.537623762376239},null,{"$f":"D2/F2","v":9.5747797094546314},null,null,null,null,"05-17-404-013-0000","874 Sheridan Rd",80409,3030,8398,63,{"$f":"S2/U2","v":9.5747797094546314},null,"N/A",{"$f":"S2/T2","v":26.537623762376239},null,{"$f":"S2/U2","v":9.5747797094546314}]
["05-21-418-049-0000","130 Sheridan Rd",null,52786,2132,9940,53,{"$f":"D3/F3","v":5.3104627766599597},{"$f":"(F3-$F$3)/$F$3*100","v":0},{"$f":"D3/E3","v":24.75891181988743},{"$f":"($J$3-J3)/$J$3*100","v":0},{"$f":"D3/F3","v":5.3104627766599597},{"$f":"($L$3-L3)/$L$3*100","v":0},44.536971734021883,null,1,"05-18-106-019-0000","1555 Tower Rd",58880,2581,23353,61,{"$f":"S3/U3","v":2.5213034727872223},73.667243014504479,{"$f":"(U3-$F$3)/$F$3*100","v":134.93963782696176},{"$f":"S3/T3","v":22.812863231305695},{"$f":"($J$3-Z3)/$J$3*100","v":7.8599924049108854},{"$f":"S3/U3","v":2.5213034727872223},{"$f":"($L$3-AB3)/$L$3*100","v":52.521963172990958},73.667243014504479]
["05-18-217-016-0000","1437 Asbury Ave",null,63694,2860,7950,21,8.0118238993710698,-20.020120724346079,22.270629370629372,10.050047705486644,8.0118238993710698,-50.868657522351448,16.323673833876494,null,2,"05-18-106-018-0000","1565 Tower Rd",66725,2627,23353,61,{"$f":"S4/U4","v":2.85723461653749},70.158743039110249,{"$f":"(U4-$F$3)/$F$3*100","v":134.93963782696176},{"$f":"S4/T4","v":25.399695470118004},{"$f":"($J$3-Z4)/$J$3*100","v":-2.5880929456514683},{"$f":"S4/U4","v":2.85723461653749},{"$f":"($L$3-AB4)/$L$3*100","v":46.196127593713008},70.158743039110249]
["05-20-308-057-0000","315 Auburn Ave",null,61656,3246,13900,57,4.4356834532374103,39.839034205231385,18.994454713493532,23.282352424566724,4.4356834532374103,16.472751249990793,53.673258415988542,null,3,"05-17-200-055-0000","889 Private Rd",65310,3149,21488,61,{"$f":"S5/U5","v":3.0393708116157856},68.256493581627225,{"$f":"(U5-$F$3)/$F$3*100","v":116.17706237424548},{"$f":"S5/T5","v":20.739917434106065},{"$f":"($J$3-Z5)/$J$3*100","v":16.232516255230308},{"$f":"S5/U5","v":3.0393708116157856},{"$f":"($L$3-AB5)/$L$3*100","v":42.766366333003241},68.256493581627225]
["05-20-308-051-0000","345 Auburn Ave",null,49704,2565,10494,60,4.7364208118925104,5.5734406438631794,19.377777777777776,21.734129840824806,4.7364208118925104,10.809641059728802,50.53232601043004,null,4,"05-20-315-009-0000","1210 Lindenwood Dr",79121,3841,21645,66,{"$f":"S6/U6","v":3.6553938553938554},61.8226845283518,{"$f":"(U6-$F$3)/$F$3*100","v":117.75653923541248},{"$f":"S6/T6","v":20.599062744077063},{"$f":"($J$3-Z6)/$J$3*100","v":16.801421266297321},{"$f":"S6/U6","v":3.6553938553938554},{"$f":"($L$3-AB6)/$L$3*100","v":31.166190045438331},61.8226845283518]
["05-20-120-028-0000","371 Berkeley Ave",null,67818,3067,10481,65,6.4705657857074703,5.4426559356136819,22.112161721552006,10.690090572597136,6.4705657857074703,-21.845610407934409,32.420734658593766,null,5,"05-18-402-061-0000","1383 Westmoor Trl",78020,3075,20996,64,{"$f":"S7/U7","v":3.715945894456087},61.190272703749301,{"$f":"(U7-$F$3)/$F$3*100","v":111.22736418511066},{"$f":"S7/T7","v":25.372357723577235},{"$f":"($J$3-Z7)/$J$3*100","v":-2.4776771618737219},{"$f":"S7/U7","v":3.715945894456087},{"$f":"($L$3-AB7)/$L$3*100","v":30.025949700879956},61.190272703749301]
["05-20-225-030-0000","368 Birch St",null,85100,3502,9348,27,9.1035515618314076,-5.9557344064386317,24.30039977155911,1.8519071099078883,9.1035515618314076,-71.426708833031853,4.9215560244995391,null,6,"05-20-300-037-0000","355 Hibbard Rd",53188,2899,12933,58,{"$f":"S8/U8","v":4.1125802211397202},57.047782341365547,{"$f":"(U8-$F$3)/$F$3*100","v":30.110663983903418},{"$f":"S8/T8","v":18.347016212487066},{"$f":"($J$3-Z8)/$J$3*100","v":25.897323977906218},{"$f":"S8/U8","v":4.1125802211397202},{"$f":"($L$3-AB8)/$L$3*100","v":22.557027624504947},57.047782341365547]
["05-20-308-060-0000","290 Euclid Ave",null,66233,2637,14340,60,4.6187587168758713,44.265593561368213,25.116799393249906,-1.4454899147667903,4.6187587168758713,13.025306623449096,51.761201228315777,null,7,"05-20-300-061-0000","277 Hibbard Rd",63501,3338,14902,56,{"$f":"S9/U9","v":4.2612401019997312},55.495163008377489,{"$f":"(U9-$F$3)/$F$3*100","v":49.919517102615693},{"$f":"S9/T9","v":19.023666866387057},{"$f":"($J$3-Z9)/$J$3*100","v":23.164366007772507},{"$f":"S9/U9","v":4.2612401019997312},{"$f":"($L$3-AB9)/$L$3*100","v":19.757650487103913},55.495163008377489]
["05-20-308-054-0000","320 Euclid Ave",null,81526,3773,14802,57,5.507769220375625,48.91348088531187,21.607739199575935,12.727427777259326,5.507769220375625,-3.7154284290033592,42.476282614241562,null,8,"05-20-313-016-0000","1240 Sunset Rd",59002,2501,13499,59,{"$f":"S10/U10","v":4.3708422846136754},54.350466358012596,{"$f":"(U10-$F$3)/$F$3*100","v":35.804828973843058},{"$f":"S10/T10","v":23.591363454618154},{"$f":"($J$3-Z10)/$J$3*100","v":4.7156691447620513},{"$f":"S10/U10","v":4.3708422846136754},{"$f":"($L$3-AB10)/$L$3*100","v":17.693759123517726},54.350466358012596]
["05-21-418-051-0000","127 Fuller Lane",null,76361,3432,8908,37,8.5721823080377195,-10.382293762575452,22.249708624708624,10.134545546397177,8.5721823080377195,-61.4206269501287,10.47123204753103,null,9,"05-20-410-003-0000","201 Linden St",82500,4217,18700,48,{"$f":"S11/U11","v":4.4117647058823533},53.923068313248514,{"$f":"(U11-$F$3)/$F$3*100","v":88.128772635814883},{"$f":"S11/T11","v":19.56367085605881},{"$f":"($J$3-Z11)/$J$3*100","v":20.983317044069675},{"$f":"S11/U11","v":4.4117647058823533},{"$f":"($L$3-AB11)/$L$3*100","v":16.923159215567402},53.923068313248514]
["05-18-216-001-0000","995 Grove St",null,56052,2693,7950,63,7.050566037735849,-20.020120724346079,20.813962124025252,15.933453475501388,7.050566037735849,-32.767450488944682,26.363151407298108,null,10,"05-20-308-057-0000","315 Auburn Ave",61656,3246,13900,57,{"$f":"S12/U12","v":4.4356834532374103},53.673258415988542,{"$f":"(U12-$F$3)/$F$3*100","v":39.839034205231385},{"$f":"S12/T12","v":18.994454713493532},{"$f":"($J$3-Z12)/$J$3*100","v":23.282352424566724},{"$f":"S12/U12","v":4.4356834532374103},{"$f":"($L$3-AB12)/$L$3*100","v":16.472751249990793},53.673258415988542]
["05-18-402-060-0000","860 Hibbard Rd",null,100502,4246,19502,63,5.1534201620346627,96.197183098591552,23.669806877060765,4.3988401055326243,5.1534201620346627,2.9572303060952758,46.177141214581575,null,11,"05-20-100-010-0000","1225 Spruce St",97131,3883,21776,67,{"$f":"S13/U13","v":4.4604610580455546},53.414478521724476,{"$f":"(U13-$F$3)/$F$3*100","v":119.0744466800805},{"$f":"S13/T13","v":25.014421838784443},{"$f":"($J$3-Z13)/$J$3*100","v":-1.0319921196689115},{"$f":"S13/U13","v":4.4604610580455546},{"$f":"($L$3-AB13)/$L$3*100","v":16.006170353933218},53.414478521724476]
["05-20-300-037-0000","355 Hibbard Rd",null,53188,2899,12933,58,4.1125802211397202,30.110663983903418,18.347016212487066,25.897323977906218,4.1125802211397202,22.557027624504947,57.047782341365547,null,12,"05-20-308-060-0000","290 Euclid Ave",66233,2637,14340,60,{"$f":"S14/U14","v":4.6187587168758713},51.761201228315777,{"$f":"(U14-$F$3)/$F$3*100","v":44.265593561368213},{"$f":"S14/T14","v":25.116799393249906},{"$f":"($J$3-Z14)/$J$3*100","v":-1.4454899147667903},{"$f":"S14/U14","v":4.6187587168758713},{"$f":"($L$3-AB14)/$L$3*100","v":13.025306623449096},51.761201228315777]
["05-20-300-061-0000","277 Hibbard Rd",null,63501,3338,14902,56,4.2612401019997312,49.919517102615693,19.023666866387057,23.164366007772507,4.2612401019997312,19.757650487103913,55.495163008377489,null,13,"05-20-308-051-0000","345 Auburn Ave",49704,2565,10494,60,{"$f":"S15/U15","v":4.7364208118925104},50.53232601043004,{"$f":"(U15-$F$3)/$F$3*100","v":5.5734406438631794},{"$f":"S15/T15","v":19.377777777777776},{"$f":"($J$3-Z15)/$J$3*100","v":21.734129840824806},{"$f":"S15/U15","v":4.7364208118925104},{"$f":"($L$3-AB15)/$L$3*100","v":10.809641059728802},50.53232601043004]
["05-20-300-044-0000","319 Hibbard Rd",null,87441,3862,17123,67,5.1066401915552184,72.26358148893361,22.641377524598653,8.5526145522594508,5.1066401915552184,3.8381322622307588,46.665716115508552,null,14,"05-17-117-007-0000","960 Old Green Bay Rd",64978,2941,13351,62,{"$f":"S16/U16","v":4.8669013557036926},49.169573573605426,{"$f":"(U16-$F$3)/$F$3*100","v":34.315895372233399},{"$f":"S16/T16","v":22.093845630737846},{"$f":"($J$3-Z16)/$J$3*100","v":10.764068342490269},{"$f":"S16/U16","v":4.8669013557036926},{"$f":"($L$3-AB16)/$L$3*100","v":8.3525944839641078},49.169573573605426]
["05-20-410-003-0000","201 Linden St",null,82500,4217,18700,48,4.4117647058823533,88.128772635814883,19.56367085605881,20.983317044069675,4.4117647058823533,16.923159215567402,53.923068313248514,null,15,"05-18-402-050-0000","1339 Trapp Lane",107105,4183,21000,66,{"$f":"S17/U17","v":5.1002380952380957},46.73258027856393,{"$f":"(U17-$F$3)/$F$3*100","v":111.26760563380283},{"$f":"S17/T17","v":25.604829070045422},{"$f":"($J$3-Z17)/$J$3*100","v":-3.4166172419521073},{"$f":"S17/U17","v":5.1002380952380957},{"$f":"($L$3-AB17)/$L$3*100","v":3.9586885411535793},46.73258027856393]
["05-20-315-009-0000","1210 Lindenwood Dr",null,79121,3841,21645,66,3.6553938553938554,117.75653923541248,20.599062744077063,16.801421266297321,3.6553938553938554,31.166190045438331,61.8226845283518,null,16,"05-20-300-044-0000","319 Hibbard Rd",87441,3862,17123,67,{"$f":"S18/U18","v":5.1066401915552184},46.665716115508552,{"$f":"(U18-$F$3)/$F$3*100","v":72.26358148893361},{"$f":"S18/T18","v":22.641377524598653},{"$f":"($J$3-Z18)/$J$3*100","v":8.5526145522594508},{"$f":"S18/U18","v":5.1066401915552184},{"$f":"($L$3-AB18)/$L$3*100","v":3.8381322622307588},46.665716115508552]
["05-17-117-007-0000","960 Old Green Bay Rd",null,64978,2941,13351,62,4.8669013557036926,34.315895372233399,22.093845630737846,10.764068342490269,4.8669013557036926,8.3525944839641078,49.169573573605426,null,17,"05-18-402-060-0000","860 Hibbard Rd",100502,4246,19502,63,{"$f":"S19/U19","v":5.1534201620346627},46.177141214581575,{"$f":"(U19-$F$3)/$F$3*100","v":96.197183098591552},{"$f":"S19/T19","v":23.669806877060765},{"$f":"($J$3-Z19)/$J$3*100","v":4.3988401055326243},{"$f":"S19/U19","v":5.1534201620346627},{"$f":"($L$3-AB19)/$L$3*100","v":2.9572303060952758},46.177141214581575]
["05-17-200-055-0000","889 Private Rd",null,65310,3149,21488,61,3.0393708116157856,116.17706237424548,20.739917434106065,16.232516255230308,3.0393708116157856,42.766366333003241,68.256493581627225,null,18,"05-21-418-049-0000","130 Sheridan Rd",52786,2132,9940,53,{"$f":"S20/U20","v":5.3104627766599597},44.536971734021883,{"$f":"(U20-$F$3)/$F$3*100","v":0},{"$f":"S20/T20","v":24.75891181988743},{"$f":"($J$3-Z20)/$J$3*100","v":0},{"$f":"S20/U20","v":5.3104627766599597},{"$f":"($L$3-AB20)/$L$3*100","v":0},44.536971734021883]
["05-18-216-012-0000","1468 Scott Ave",null,63981,2930,6930,33,9.2324675324675329,-30.281690140845068,21.836518771331058,11.803398589630179,9.2324675324675329,-73.854293321576321,3.5751441534376172,null,19,"05-20-308-054-0000","320 Euclid Ave",81526,3773,14802,57,{"$f":"S21/U21","v":5.507769220375625},42.476282614241562,{"$f":"(U21-$F$3)/$F$3*100","v":48.91348088531187},{"$f":"S21/T21","v":21.607739199575935},{"$f":"($J$3-Z21)/$J$3*100","v":12.727427777259326},{"$f":"S21/U21","v":5.507769220375625},{"$f":"($L$3-AB21)/$L$3*100","v":-3.7154284290033592},42.476282614241562]
["05-20-100-010-0000","1225 Spruce St",null,97131,3883,21776,67,4.4604610580455546,119.0744466800805,25.014421838784443,-1.0319921196689115,4.4604610580455546,16.006170353933218,53.414478521724476,null,20,"05-20-308-069-0000","1220 Sunset Rd",74842,3276,12693,51,{"$f":"S22/U22","v":5.8963208067438746},38.418209236484643,{"$f":"(U22-$F$3)/$F$3*100","v":27.696177062374243},{"$f":"S22/T22","v":22.845543345543344},{"$f":"($J$3-Z22)/$J$3*100","v":7.7279990666115852},{"$f":"S22/U22","v":5.8963208067438746},{"$f":"($L$3-AB22)/$L$3*100","v":-11.032146438514216},38.418209236484643]
["05-20-308-069-0000","1220 Sunset Rd",null,74842,3276,12693,51,5.8963208067438746,27.696177062374243,22.845543345543344,7.7279990666115852,5.8963208067438746,-11.032146438514216,38.418209236484643,null,21,"05-20-120-028-0000","371 Berkeley Ave",67818,3067,10481,65,{"$f":"S23/U23","v":6.4705657857074703},32.420734658593766,{"$f":"(U23-$F$3)/$F$3*100","v":5.4426559356136819},{"$f":"S23/T23","v":22.112161721552006},{"$f":"($J$3-Z23)/$J$3*100","v":10.690090572597136},{"$f":"S23/U23","v":6.4705657857074703},{"$f":"($L$3-AB23)/$L$3*100","v":-21.845610407934409},32.420734658593766]
["05-20-313-016-0000","1240 Sunset Rd",null,59002,2501,13499,59,4.3708422846136754,35.804828973843058,23.591363454618154,4.7156691447620513,4.3708422846136754,17.693759123517726,54.350466358012596,null,22,"05-18-216-001-0000","995 Grove St",56052,2693,7950,63,{"$f":"S24/U24","v":7.050566037735849},26.363151407298108,{"$f":"(U24-$F$3)/$F$3*100","v":-20.020120724346079},{"$f":"S24/T24","v":20.813962124025252},{"$f":"($J$3-Z24)/$J$3*100","v":15.933453475501388},{"$f":"S24/U24","v":7.050566037735849},{"$f":"($L$3-AB24)/$L$3*100","v":-32.767450488944682},26.363151407298108]
["05-18-106-019-0000","1555 Tower Rd",null,58880,2581,23353,61,2.5213034727872223,134.93963782696176,22.812863231305695,7.8599924049108854,2.5213034727872223,52.521963172990958,73.667243014504479,null,23,"05-18-217-016-0000","1437 Asbury Ave",63694,2860,7950,21,{"$f":"S25/U25","v":8.0118238993710698},16.323673833876494,{"$f":"(U25-$F$3)/$F$3*100","v":-20.020120724346079},{"$f":"S25/T25","v":22.270629370629372},{"$f":"($J$3-Z25)/$J$3*100","v":10.050047705486644},{"$f":"S25/U25","v":8.0118238993710698},{"$f":"($L$3-AB25)/$L$3*100","v":-50.868657522351448},16.323673833876494]
["05-18-106-018-0000","1565 Tower Rd",null,66725,2627,23353,61,2.85723461653749,134.93963782696176,25.399695470118004,-2.5880929456514683,2.85723461653749,46.196127593713008,70.158743039110249,null,24,"05-21-418-051-0000","127 Fuller Lane",76361,3432,8908,37,{"$f":"S26/U26","v":8.5721823080377195},10.47123204753103,{"$f":"(U26-$F$3)/$F$3*100","v":-10.382293762575452},{"$f":"S26/T26","v":22.249708624708624},{"$f":"($J$3-Z26)/$J$3*100","v":10.134545546397177},{"$f":"S26/U26","v":8.5721823080377195},{"$f":"($L$3-AB26)/$L$3*100","v":-61.4206269501287},10.47123204753103]
["05-18-402-050-0000","1339 Trapp Lane",null,107105,4183,21000,66,5.1002380952380957,111.26760563380283,25.604829070045422,-3.4166172419521073,5.1002380952380957,3.9586885411535793,46.73258027856393,null,25,"05-20-225-030-0000","368 Birch St",85100,3502,9348,27,{"$f":"S27/U27","v":9.1035515618314076},4.9215560244995391,{"$f":"(U27-$F$3)/$F$3*100","v":-5.9557344064386317},{"$f":"S27/T27","v":24.30039977155911},{"$f":"($J$3-Z27)/$J$3*100","v":1.8519071099078883},{"$f":"S27/U27","v":9.1035515618314076},{"$f":"($L$3-AB27)/$L$3*100","v":-71.426708833031853},4.9215560244995391]
["05-18-402-061-0000","1383 Westmoor Trl",null,78020,3075,20996,64,3.715945894456087,111.22736418511066,25.372357723577235,-2.4776771618737219,3.715945894456087,30.025949700879956,61.190272703749301,null,26,"05-18-216-012-0000","1468 Scott Ave",63981,2930,6930,33,{"$f":"S28/U28","v":9.2324675324675329},3.5751441534376172,{"$f":"(U28-$F$3)/$F$3*100","v":-30.281690140845068},{"$f":"S28/T28","v":21.836518771331058},{"$f":"($J$3-Z28)/$J$3*100","v":11.803398589630179},{"$f":"S28/U28","v":9.2324675324675329},{"$f":"($L$3-AB28)/$L$3*100","v":-73.854293321576321},3.5751441534376172]